BEGIN:VCALENDAR
VERSION:2.0
PRODID:-//ChamberMaster//Event Calendar 2.0//EN
METHOD:PUBLISH
X-PUBLISHED-TTL:P3D
REFRESH-INTERVAL:P3D
CALSCALE:GREGORIAN
BEGIN:VEVENT
DTSTART:20090514T163000Z
DTEND:20090514T180000Z
X-MICROSOFT-CDO-ALLDAYEVENT:FALSE
SUMMARY:2009 May Ambassador Lunch Meeting
DESCRIPTION:MENU: Salad of your choice\, Bread and Iced Tea Entree 1: CHICKEN CACCIATORE - Chicken with sauteed onions bell peppers and mushrooms in a spicy Marinara sauce. Entree 2: PASTA COMBO - Lasagna\, Cheese Ravioli & Cannelloni baked with Marinara sauce. Entree 3: CHEESE TORTELLINI: Chicken filled Tortellini tossed with mushrooms in a creamy Alfredo sauce.
X-ALT-DESC;FMTTYPE=text/html:<P>MENU: Salad of your choice\, Bread and Iced Tea </P><P>Entree 1: CHICKEN CACCIATORE - Chicken with sauteed onions bell peppers and mushrooms in a spicy Marinara sauce. </P><P>Entree 2: PASTA COMBO - Lasagna\, Cheese Ravioli &amp\; Cannelloni baked with Marinara sauce. </P><P>Entree 3: CHEESE TORTELLINI:&nbsp\;Chicken filled Tortellini tossed with mushrooms in a creamy Alfredo sauce. </P>
LOCATION:BIANCO * PASTA * VINO
UID:e.2020.599
SEQUENCE:3
DTSTAMP:20260425T005758Z
URL:https://cm-dev.metrosa.com/events/details/2009-may-ambassador-lunch-meeting-05-14-2009-599
END:VEVENT

END:VCALENDAR
