BEGIN:VCALENDAR
VERSION:2.0
PRODID:-//ChamberMaster//Event Calendar 2.0//EN
METHOD:PUBLISH
X-PUBLISHED-TTL:P3D
REFRESH-INTERVAL:P3D
CALSCALE:GREGORIAN
BEGIN:VEVENT
DTSTART:20090514T220000Z
DTEND:20090514T230000Z
X-MICROSOFT-CDO-ALLDAYEVENT:FALSE
SUMMARY:2009 MAY * GRAND OPENING @ Dale Carnegie Training San Antoni
DESCRIPTION:DALE CARNEGIE TRAINING OF SAN ANTONIO1100 NW Loop 410\, Suite 430 - 78213Thursday May 14\, 2009RIBBON CUTTING @ 5:00 p.m.CONTACT: Skip Reynolds @ 592-1697CHAMBER CONTACT: Samantha Collins @ 364-1581DIRECTIONS: Please view map on North Chamber website at "Calendar of Events". www.northsachamber.com
X-ALT-DESC;FMTTYPE=text/html:<P>DALE CARNEGIE TRAINING OF SAN ANTONIO</P><P>1100 NW Loop 410\, Suite 430 - 78213</P><P>Thursday May 14\, 2009</P><P>RIBBON CUTTING @ 5:00 p.m.</P><P>CONTACT: Skip Reynolds @ 592-1697</P><P>CHAMBER CONTACT: Samantha Collins @ 364-1581</P><P>DIRECTIONS: Please view map on North Chamber website at "Calendar of Events". www.northsachamber.com</P>
LOCATION:Dale Carnegie Training San Antonio
UID:e.2020.623
SEQUENCE:3
DTSTAMP:20260425T010015Z
URL:https://cm-dev.metrosa.com/events/details/2009-may-grand-opening-dale-carnegie-training-san-antoni-05-14-2009-623
END:VEVENT

END:VCALENDAR
