BEGIN:VCALENDAR
VERSION:2.0
PRODID:-//ChamberMaster//Event Calendar 2.0//EN
METHOD:PUBLISH
X-PUBLISHED-TTL:P3D
REFRESH-INTERVAL:P3D
CALSCALE:GREGORIAN
BEGIN:VEVENT
DTSTART:20090521T213000Z
DTEND:20090521T233000Z
X-MICROSOFT-CDO-ALLDAYEVENT:FALSE
SUMMARY:2009 MAY * Relocation Ribbon Cutting @ The Spahn Law Firm
DESCRIPTION:THE SPAHN LAW FIRM\, PLLC4440 S. Piedras Drive\, Suite 145Thursday May 21\, 2009RIBBON CUTTING @ 4:30 p.m.CONTACT: Yvonne Trachta @ 880-4012CHAMBER CONTACT: Samantha Collins @ Cell: 364-1581DIRECTIONS: Travel 410 West exit 14C-Babcock Road turn left on to Babcock turn right at Centerview Drive and left on to East Piedras and right on to South Piedras the office building will be on the right side of road. Food and refreshments will be served. The Spahn Law Firm is dedicated to protecting and preserving the assets of our clients today\, tomorrow and for generations to come.PUTTING PEOPLE FIRST - Families appreciate the relationship-centered service Matt Spahn provides. He’s a caring professional who will sit down with you to learn what is important in your life\, and then he will use his skills and talents to design a legacy plan around your values.
X-ALT-DESC;FMTTYPE=text/html:<P>THE SPAHN LAW FIRM\, PLLC</P><P>4440 S. Piedras Drive\, Suite 145</P><P>Thursday May 21\, 2009</P><P>RIBBON CUTTING @ 4:30 p.m.</P><P>CONTACT: Yvonne Trachta @ 880-4012</P><P>CHAMBER CONTACT: Samantha Collins @ Cell: 364-1581</P><P>DIRECTIONS: Travel 410 West exit 14C-Babcock Road turn left on to Babcock turn right at Centerview Drive and left on to East Piedras and right on to South Piedras the office building will be on the right side of road. </P><P>Food and refreshments will be served. </P><P>The Spahn Law Firm is dedicated to protecting and preserving the assets of our clients today\, tomorrow and for generations to come.PUTTING PEOPLE FIRST - Families appreciate the relationship-centered service Matt Spahn provides. He’s a caring professional who will sit down with you to learn what is important in your life\, and then he will use his skills and talents to design a legacy plan around your values. </P>
LOCATION:The Spahn Law Firm\, PLLC
UID:e.2020.632
SEQUENCE:3
DTSTAMP:20260425T010302Z
URL:https://cm-dev.metrosa.com/events/details/2009-may-relocation-ribbon-cutting-the-spahn-law-firm-05-21-2009-632
END:VEVENT

END:VCALENDAR
