BEGIN:VCALENDAR
VERSION:2.0
PRODID:-//ChamberMaster//Event Calendar 2.0//EN
METHOD:PUBLISH
X-PUBLISHED-TTL:P3D
REFRESH-INTERVAL:P3D
CALSCALE:GREGORIAN
BEGIN:VEVENT
DTSTART:20091110T230000Z
DTEND:20091111T010000Z
X-MICROSOFT-CDO-ALLDAYEVENT:FALSE
SUMMARY:2009 NOV*Relocation/Ribbon Cutting @ Odyssey Travel
DESCRIPTION:ODYSSEY TRAVEL6011 Fountainwood Street\, 78233Tuesday November 10\, 2009RIBBON CUTTING @ 5:00 p.m.CONTACT: Anne DuBose & Preston McKinney @ 656-0083CHAMBER CONTACT: Samantha Collins @ 364-1581cellDIRECTIONS: http://www.odysseyworld.com Beer\, Wine & Food will be served. Odyssey Travel is the premium San Antonio full service travel agency that specializes in honeymoon and destination weddings\, upscale family vacations and cruises.
X-ALT-DESC;FMTTYPE=text/html:<P>ODYSSEY TRAVEL6011 </P><P>Fountainwood Street\, 78233</P><P>Tuesday November 10\, 2009</P><P>RIBBON CUTTING @ 5:00 p.m.</P><P>CONTACT: Anne DuBose &amp\; Preston McKinney @ 656-0083</P><P>CHAMBER CONTACT: Samantha Collins @ 364-1581cell</P><P>DIRECTIONS: <A href="http://www.odysseyworld.com">http://www.odysseyworld.com</A> </P><P>Beer\, Wine &amp\; Food will be served. </P><P><EM>Odyssey Travel is&nbsp\;the premium San Antonio full service travel agency that specializes in honeymoon and destination weddings\, upscale family vacations and cruises.</EM></P>
LOCATION:Odyssey Travel
UID:e.2020.675
SEQUENCE:3
DTSTAMP:20260424T175914Z
URL:https://cm-dev.metrosa.com/events/details/2009-nov-relocation-ribbon-cutting-odyssey-travel-11-10-2009-675
END:VEVENT

END:VCALENDAR
