BEGIN:VCALENDAR
VERSION:2.0
PRODID:-//ChamberMaster//Event Calendar 2.0//EN
METHOD:PUBLISH
X-PUBLISHED-TTL:P3D
REFRESH-INTERVAL:P3D
CALSCALE:GREGORIAN
BEGIN:VEVENT
DTSTART:20091029T220000Z
DTEND:20091029T233000Z
X-MICROSOFT-CDO-ALLDAYEVENT:FALSE
SUMMARY:2009 OCT * RIBBON CUTTING @ ReachLocal\, Inc
DESCRIPTION:REACHLOCAL\, INC84 NE LOOP 410\, SUITE 100 – 78216Thursday October 29\, 2009RIBBON CUTTING @ 5:00 p.m.CONTACT: Carlos Aguirre @ 519-4100 x 106DIRECTIONS: www.reachlocal.comFood and refreshments will be served and Doorpizes. ReachLocal brings order to the fragmented local Internet by connecting advertisers\, publishers\, and creative solutions providers together on one platform. Wherever customers are online\, ReachLocal helps businesses find them with the broadest reach of local digital media\, a dedicated force of local Internet Marketing Consultants\, and technology that continually optimizes results.
X-ALT-DESC;FMTTYPE=text/html:<P>REACHLOCAL\, INC</P><P>84 NE LOOP 410\, SUITE 100 – 78216</P><P>Thursday October 29\, 2009</P><P>RIBBON CUTTING @ 5:00 p.m.</P><P>CONTACT: Carlos Aguirre @ 519-4100 x 106</P><P>DIRECTIONS: <A href="http://www.reachlocal.com">www.reachlocal.com</A></P><P>Food and refreshments will be served and Doorpizes. </P><P><EM>ReachLocal brings order to the fragmented local Internet by connecting advertisers\, publishers\, and creative solutions providers together on one platform. Wherever customers are online\, ReachLocal helps businesses find them with the broadest reach of local digital media\, a dedicated force of local Internet Marketing Consultants\, and technology that continually optimizes results.</EM></P>
LOCATION:ReachLocal\, Inc.
UID:e.2020.674
SEQUENCE:3
DTSTAMP:20260424T190627Z
URL:https://cm-dev.metrosa.com/events/details/2009-oct-ribbon-cutting-reachlocal-inc-10-29-2009-674
END:VEVENT

END:VCALENDAR
