BEGIN:VCALENDAR
VERSION:2.0
PRODID:-//ChamberMaster//Event Calendar 2.0//EN
METHOD:PUBLISH
X-PUBLISHED-TTL:P3D
REFRESH-INTERVAL:P3D
CALSCALE:GREGORIAN
BEGIN:VEVENT
DTSTART:20091017T230000Z
DTEND:20091018T020000Z
X-MICROSOFT-CDO-ALLDAYEVENT:FALSE
SUMMARY:2009 October The Berend's Fall Party
DESCRIPTION:
X-ALT-DESC;FMTTYPE=text/html:
LOCATION:43 Westelm Circle
UID:e.2020.673
SEQUENCE:3
DTSTAMP:20260424T191034Z
URL:https://cm-dev.metrosa.com/events/details/2009-october-the-berend-s-fall-party-10-17-2009-673
END:VEVENT

END:VCALENDAR
