BEGIN:VCALENDAR
VERSION:2.0
PRODID:-//ChamberMaster//Event Calendar 2.0//EN
METHOD:PUBLISH
X-PUBLISHED-TTL:P3D
REFRESH-INTERVAL:P3D
CALSCALE:GREGORIAN
BEGIN:VEVENT
DTSTART:20090919T143000Z
DTEND:20090919T170000Z
X-MICROSOFT-CDO-ALLDAYEVENT:FALSE
SUMMARY:2009 SEP * GRAND OPENING @ Bank of America
DESCRIPTION:BANK OF AMERICA10661 Culebra RoadSaturday\, September 19\, 2009RIBBON CUTTING @ 9:30 A.M.CONTACT: Michael Malchoff @ 246-7524CHAMBER CONTACT: Samantha Collins @ 364-1581 & Marilyn Hartmann @ 476-4594DIRECTIONS: http://www.bankofamerica.comFood and Refreshments will be served. At Bank of America\, they are committed to the needs of all of their customers - including those with disabilities. With Accessible Banking\, you can enjoy a wide range of accounts and services designed to make banking easier and more convenient for everyone.
X-ALT-DESC;FMTTYPE=text/html:<P>BANK OF AMERICA</P><P>10661 Culebra Road</P><P>Saturday\, September 19\, 2009</P><P>RIBBON CUTTING @ 9:30 A.M.</P><P>CONTACT: Michael Malchoff @ 246-7524</P><P>CHAMBER CONTACT: Samantha Collins @ 364-1581 &amp\; Marilyn Hartmann @ 476-4594</P><P>DIRECTIONS: <A href="http://www.bankofamerica.com">http://www.bankofamerica.com</A></P><P>Food and Refreshments will be served. </P><P><EM>At Bank of America\, they are committed to the needs of all of their customers - including those with disabilities. With Accessible Banking\, you can enjoy a wide range of accounts and services designed to make banking easier and more convenient for everyone.</EM></P>
LOCATION:Bank of America
UID:e.2020.657
SEQUENCE:3
DTSTAMP:20260424T201537Z
URL:https://cm-dev.metrosa.com/events/details/2009-sep-grand-opening-bank-of-america-09-19-2009-657
END:VEVENT

END:VCALENDAR
