BEGIN:VCALENDAR
VERSION:2.0
PRODID:-//ChamberMaster//Event Calendar 2.0//EN
METHOD:PUBLISH
X-PUBLISHED-TTL:P3D
REFRESH-INTERVAL:P3D
CALSCALE:GREGORIAN
BEGIN:VEVENT
DTSTART:20090915T213000Z
DTEND:20090915T233000Z
X-MICROSOFT-CDO-ALLDAYEVENT:FALSE
SUMMARY:2009 SEP * GRAND OPENING @ Cosi Restaurant
DESCRIPTION:COSI AT THE RIM17503 La Cantera Parkway Tuesday September 15\, 2009RIBBON CUTTING @ 4:30 p.m.CONTACT: Leslie Newton @ 558-1040CHAMBER CONTACT: Samantha Collins @ -364-1581 cellDIRECTIONS: The Rim Shopping Center @ IH10/ 1604 West - Take first right into the entrance at first stop sign turn left towards the movie theater then first left at Stone Cold Creamery. The Cosi Restaurant is to the right of the icecream shop. COSI will offer sample tastings of their menu. From our hand-tossed Signature Salad to our Tomato\, Basil\, and Mozzarella Sandwich served on delicious warm flatbread\, to the comfortable\, urbane and contemporary atmosphere - Così is simply good taste. A place where all elements combine to stimulate the senses and create a lasting impression. 'Fabulous'! exclaimed Ruth Reichl of the New York Times...'Hot Concept' said the Nation's Restaurant News. In just a few short years Così has garnered national attention and collected many 'best of' awards from the communities we serve.
X-ALT-DESC;FMTTYPE=text/html:<P>COSI AT THE RIM</P><P>17503 La Cantera Parkway </P><P>Tuesday September 15\, 2009</P><P>RIBBON CUTTING @ 4:30 p.m.</P><P>CONTACT: Leslie Newton @ 558-1040</P><P>CHAMBER CONTACT: Samantha Collins @ -364-1581 cell</P><P>DIRECTIONS: The Rim Shopping Center @ IH10/ 1604 West - Take first right into the entrance at first stop sign turn left towards the movie theater then first left at Stone Cold Creamery. The Cosi Restaurant is to the right of the icecream shop. </P><P>COSI will offer sample tastings of their menu. </P><P><EM>From our hand-tossed Signature Salad to our Tomato\, Basil\, and Mozzarella Sandwich served on delicious warm flatbread\, to the comfortable\, urbane and contemporary atmosphere - Così is simply good taste. A place where all elements combine to stimulate the senses and create a lasting impression. 'Fabulous'! exclaimed Ruth Reichl of the New York Times...'Hot Concept' said the Nation's Restaurant News. In just a few short years Così has garnered national attention and collected many 'best of' awards from the communities we serve.</EM></P>
LOCATION:Cosi at The Rim
UID:e.2020.656
SEQUENCE:3
DTSTAMP:20260424T201614Z
URL:https://cm-dev.metrosa.com/events/details/2009-sep-grand-opening-cosi-restaurant-09-15-2009-656
END:VEVENT

END:VCALENDAR
