BEGIN:VCALENDAR
VERSION:2.0
PRODID:-//ChamberMaster//Event Calendar 2.0//EN
METHOD:PUBLISH
X-PUBLISHED-TTL:P3D
REFRESH-INTERVAL:P3D
CALSCALE:GREGORIAN
BEGIN:VEVENT
DTSTART:20090928T050000Z
DTEND:20090928T050000Z
X-MICROSOFT-CDO-ALLDAYEVENT:FALSE
SUMMARY:2009 SEP * Lab Alumni Newsletter Ads 3nd Quarter
DESCRIPTION:2009 SEP * Lab Alumni Newsletter Ads 3nd Quarter
X-ALT-DESC;FMTTYPE=text/html:2009 SEP * Lab Alumni Newsletter Ads 3nd Quarter
LOCATION:2009 Leadership Lab Alumni
UID:e.2020.2255
SEQUENCE:3
DTSTAMP:20260424T201036Z
URL:https://cm-dev.metrosa.com/events/details/2009-sep-lab-alumni-newsletter-ads-3nd-quarter-09-28-2009-2255
END:VEVENT

END:VCALENDAR
