BEGIN:VCALENDAR
VERSION:2.0
PRODID:-//ChamberMaster//Event Calendar 2.0//EN
METHOD:PUBLISH
X-PUBLISHED-TTL:P3D
REFRESH-INTERVAL:P3D
CALSCALE:GREGORIAN
BEGIN:VEVENT
DTSTART:20100429T210000Z
DTEND:20100429T230000Z
X-MICROSOFT-CDO-ALLDAYEVENT:FALSE
SUMMARY:2010 APRIL* GRAND OPENING @ ANCIRA KIA
DESCRIPTION:ANCIRA KIA 5720 NW Loop 410 next to Cavender ToyotaThursday April 29\, 2010RIBBON CUTTING @ 4:00 p.m.CONTACT: Harold Novy @ 684-3384CHAMBER CONTACT: Samantha Collins @ 364-1581DIRECTIONS: http://kia.ancira.com/Information-Directions.aspxFood and Refreshments will be served. Ancira Kia  provides new and pre-owned sales\, service\, parts and financing. Please visit Ancira KIA to view and test drive a KIA\, including the KIA Sportage\, Sorento\, and Rio. Proudly serving the cities of San Antonio\, Seguin\, Floresville\, New Braunfels\, Alamo City\, & Boerne\, TX
X-ALT-DESC;FMTTYPE=text/html:<P>ANCIRA KIA </P><P>5720 NW Loop 410 next to Cavender Toyota</P><P>Thursday April 29\, 2010</P><P>RIBBON CUTTING @ 4:00 p.m.</P><P>CONTACT: Harold Novy @ 684-3384</P><P>CHAMBER CONTACT: Samantha Collins @ 364-1581</P><P>DIRECTIONS: <A href="http://kia.ancira.com/Information-Directions.aspx">http://kia.ancira.com/Information-Directions.aspx</A></P><P>Food and Refreshments will be served. </P><P><EM>Ancira Kia&nbsp\; provides new and pre-owned sales\, service\, parts and financing. Please visit Ancira KIA to view and test drive a KIA\, including the KIA Sportage\, Sorento\, and Rio.&nbsp\;Proudly serving the cities of San Antonio\, Seguin\, Floresville\, New Braunfels\, Alamo City\, &amp\; Boerne\, TX</EM></P>
LOCATION:ANCIRA KIA
UID:e.2020.758
SEQUENCE:3
DTSTAMP:20260424T115405Z
URL:https://cm-dev.metrosa.com/events/details/2010-april-grand-opening-ancira-kia-04-29-2010-758
END:VEVENT

END:VCALENDAR
