BEGIN:VCALENDAR
VERSION:2.0
PRODID:-//ChamberMaster//Event Calendar 2.0//EN
METHOD:PUBLISH
X-PUBLISHED-TTL:P3D
REFRESH-INTERVAL:P3D
CALSCALE:GREGORIAN
BEGIN:VEVENT
DTSTART:20100322T130000Z
DTEND:20100401T220000Z
X-MICROSOFT-CDO-ALLDAYEVENT:FALSE
SUMMARY:2010 ATHENA Young Professional - CALL FOR NOMINATIONS
DESCRIPTION:Call for Nominations! Application deadline is Thursday\, April 1st\, at 5:00pm. The ATHENA Young Professional Award actively supports and celebrates the ATHENA mission of supporting\, developing and honoring women leaders\, inspiring women to achieve their full potential - creating balance in leadership worldwide. The ATHENA Young Professional Award honors emerging leaders who strive toward the highest levels of personal and professional accomplishment\, who excel in their chosen field\, devote time and energy to their community in a meaningful way\, and serve as a role model for young women. Nominations are open to male or female residents between the ages of 25-40\, who reside within Atascosa\, Bandera\, Bexar\, Comal\, Guadalupe\, Kendall\, Medina & Wilson Counties\, and work within Bexar County. THE CRITERIA  ATHENA Young Professional Nominees meet each of the following criteria:The individual is an emerging leader who demonstrates excellence\, creativity and initiative in her/his business or professionThe individual provides valuable service to improve the quality of life for others in the communityThe individual clearly serves as a role model for young women personally and professionallyClick here to download form
X-ALT-DESC;FMTTYPE=text/html:<DIV><STRONG>Call for Nominations! Application deadline is Thursday\, April 1st\, at 5:00pm.</STRONG></DIV><DIV>&nbsp\;</DIV><DIV><P class=MsoBodyText3 style="MARGIN: 0in 0in 0pt\; TEXT-ALIGN: left" align=left><SPAN style="FONT-STYLE: normal">The ATHENA Young Professional Award actively supports and celebrates the ATHENA mission of supporting\, developing and honoring women leaders\, inspiring women to achieve their full potential - creating balance in leadership worldwide. The ATHENA Young Professional Award honors emerging leaders who strive toward the highest levels of personal and professional accomplishment\, who excel in their chosen field\, devote time and energy to <?xml:namespace prefix = o ns = "urn:schemas-microsoft-com:office:office" /><o:p></o:p></SPAN></P><P class=MsoBodyText3 style="MARGIN: 0in 0in 0pt\; TEXT-ALIGN: left" align=left><SPAN style="FONT-STYLE: normal">their community in a meaningful way\, and serve as a role model for young women. Nominations are open to male or female residents between the ages of 25-40\, who reside within Atascosa\, Bandera\, Bexar\, Comal\, Guadalupe\, </SPAN><?xml:namespace prefix = st1 ns = "urn:schemas-microsoft-com:office:smarttags" /><st1:place><SPAN style="FONT-STYLE: normal">Kendall</SPAN></st1:place><SPAN style="FONT-STYLE: normal">\, </SPAN><st1:City><st1:place><SPAN style="FONT-STYLE: normal">Medina</SPAN></st1:place></st1:City><SPAN style="FONT-STYLE: normal"> &amp\; </SPAN><st1:place><st1:PlaceName><SPAN style="FONT-STYLE: normal">Wilson</SPAN></st1:PlaceName><SPAN style="FONT-STYLE: normal"> </SPAN><st1:PlaceName><SPAN style="FONT-STYLE: normal">Counties</SPAN></st1:PlaceName></st1:place><SPAN style="FONT-STYLE: normal">\, and work within </SPAN><st1:place><st1:PlaceName><SPAN style="FONT-STYLE: normal">Bexar</SPAN></st1:PlaceName><SPAN style="FONT-STYLE: normal"> </SPAN><st1:PlaceType><SPAN style="FONT-STYLE: normal">County</SPAN></st1:PlaceType></st1:place><SPAN style="FONT-STYLE: normal">.<o:p></o:p></SPAN></P><P class=MsoNormal style="MARGIN: 0in 0in 0pt"><I style="mso-bidi-font-style: normal"><SPAN style="FONT-SIZE: 11pt\; LAYOUT-GRID-MODE: line\; FONT-FAMILY: Garamond\; mso-bidi-font-size: 10.0pt"><o:p><FONT face=Arial size=3>&nbsp\;</FONT></o:p></SPAN></I></P><H2 style="MARGIN: 0in 0in 0pt\; TEXT-ALIGN: justify"><SPAN style="FONT-SIZE: 14pt\; COLOR: navy\; mso-bidi-font-size: 10.0pt"><FONT size=3>THE CRITERIA <o:p></o:p></FONT></SPAN></H2><P class=MsoNormal style="MARGIN: 0in 0in 0pt"><SPAN style="FONT-FAMILY: Garamond"><o:p><FONT face="Times New Roman">&nbsp\;</FONT></o:p></SPAN></P><SPAN style="FONT-SIZE: 12pt\; LAYOUT-GRID-MODE: line\; FONT-FAMILY: Garamond\; mso-bidi-font-size: 10.0pt\; mso-fareast-font-family: 'Times New Roman'\; mso-bidi-font-family: 'Times New Roman'\; mso-ansi-language: EN-US\; mso-fareast-language: EN-US\; mso-bidi-language: AR-SA"></SPAN></DIV><DIV><P class=MsoNormal style="MARGIN: 0in 0in 0pt\; TEXT-ALIGN: justify"><SPAN style="FONT-SIZE: 12pt\; LAYOUT-GRID-MODE: line\; FONT-FAMILY: Garamond\; mso-bidi-font-size: 10.0pt"><FONT face="Times New Roman">ATHENA Young Professional Nominees meet each of the following criteria:<o:p></o:p></FONT></SPAN></P><UL style="MARGIN-TOP: 0in" type=disc><LI class=MsoNormal style="MARGIN: 0in 0in 0pt\; TEXT-ALIGN: justify\; mso-list: l0 level1 lfo1\; tab-stops: list .5in"><SPAN style="FONT-SIZE: 12pt\; LAYOUT-GRID-MODE: line\; FONT-FAMILY: Garamond\; mso-bidi-font-size: 10.0pt"><FONT face="Times New Roman">The individual is an emerging leader who demonstrates excellence\, creativity and initiative in her/his business or profession<o:p></o:p></FONT></SPAN><LI class=MsoNormal style="MARGIN: 0in 0in 0pt\; TEXT-ALIGN: justify\; mso-list: l0 level1 lfo1\; tab-stops: list .5in"><SPAN style="FONT-SIZE: 12pt\; LAYOUT-GRID-MODE: line\; FONT-FAMILY: Garamond\; mso-bidi-font-size: 10.0pt"><FONT face="Times New Roman">The individual provides valuable service to improve the quality of life for others in the community<o:p></o:p></FONT></SPAN><LI class=MsoNormal style="MARGIN: 0in 0in 0pt\; TEXT-ALIGN: justify\; mso-list: l0 level1 lfo1\; tab-stops: list .5in"><SPAN style="FONT-SIZE: 12pt\; LAYOUT-GRID-MODE: line\; FONT-FAMILY: Garamond\; mso-bidi-font-size: 10.0pt"><FONT face="Times New Roman">The individual clearly serves as a role model for young women personally and professionally<o:p></o:p></FONT></SPAN></LI></UL></DIV><DIV><A dataFld=0:0 href="http://www.northsachamber.com/media/pdf/AYPA_nomination.pdf">Click here to download form</A></DIV><DIV>&nbsp\;</DIV><DIV><A href="http://www.northsachamber.com/media/pdf/AYPA_nomination.pdf"></A>&nbsp\;</DIV>
LOCATION:North Chamber
UID:e.2020.754
SEQUENCE:3
DTSTAMP:20260424T120130Z
URL:https://cm-dev.metrosa.com/events/details/2010-athena-young-professional-call-for-nominations-03-22-2010-754
END:VEVENT

END:VCALENDAR
