BEGIN:VCALENDAR
VERSION:2.0
PRODID:-//ChamberMaster//Event Calendar 2.0//EN
METHOD:PUBLISH
X-PUBLISHED-TTL:P3D
REFRESH-INTERVAL:P3D
CALSCALE:GREGORIAN
BEGIN:VEVENT
DTSTART:20100826T121500Z
DTEND:20100826T140000Z
X-MICROSOFT-CDO-ALLDAYEVENT:FALSE
SUMMARY:2010 August CIO Breakfast
DESCRIPTION:Location:  Petroleum ClubTopic:  Boundaries of ITThe IT department is involved in many aspects of a company and many times is a critical partner in the success of a given department.  Along with that partner role comes the risk of being stretched beyond our capabilities or being blamed for failures beyond our control.  Identifying and ensuring boundaries are adhered to and respected can be a challenge at times.  The panel will discuss how IT can define its boundaries within the company so it is involved and consulted appropriately while being placed in charge of initiatives/projects where they make sense.  These boundaries also serve the role of reducing the risk of IT becoming the scapegoat for floundering initiatives.  Panelists:\nManish Kapoor\, NuStar Energy\nGerado Lopez\, Thermon Mfg\nSteve High\, Gartner\, Inc.
X-ALT-DESC;FMTTYPE=text/html:<P class=MsoNormal style="MARGIN-BOTTOM: 3.75pt\; MARGIN-LEFT: 0in\; MARGIN-RIGHT: 0in\; mso-margin-top-alt: 3.75pt"><B><SPAN style="FONT-SIZE: 9pt">Location:&nbsp\; Petroleum Club</SPAN></B></P><P class=MsoNormal style="MARGIN-BOTTOM: 3.75pt\; MARGIN-LEFT: 0in\; MARGIN-RIGHT: 0in\; mso-margin-top-alt: 3.75pt"><B><SPAN style="FONT-SIZE: 9pt">Topic:&nbsp\; Boundaries of IT<?xml:namespace prefix = o ns = "urn:schemas-microsoft-com:office:office" /><o:p></o:p></SPAN></B></P><P class=MsoNormal><SPAN style="FONT-SIZE: 9pt">The IT department is involved in many aspects of a company and many times is a critical partner in the success of a given department.&nbsp\; Along with that partner role comes the risk of being stretched beyond our capabilities or being blamed for failures beyond our control.&nbsp\; Identifying and ensuring boundaries are adhered to and respected can be a challenge at times.&nbsp\; The panel will discuss how IT can define its boundaries within the company so it is involved and consulted appropriately while being placed in charge of initiatives/projects where they make sense.&nbsp\; These boundaries also serve the role of reducing the risk of IT becoming the scapegoat for floundering initiatives.&nbsp\; </SPAN></P><P class=MsoNormal><SPAN style="FONT-SIZE: 9pt">Panelists:<BR>Manish Kapoor\, NuStar Energy<BR>Gerado Lopez\, Thermon Mfg<BR>Steve High\, Gartner\, Inc.</SPAN></P>
LOCATION:Petroleum Club of San Antonio
UID:e.2020.789
SEQUENCE:3
DTSTAMP:20260422T204155Z
URL:https://cm-dev.metrosa.com/events/details/2010-august-cio-breakfast-08-26-2010-789
END:VEVENT

END:VCALENDAR
