BEGIN:VCALENDAR
VERSION:2.0
PRODID:-//ChamberMaster//Event Calendar 2.0//EN
METHOD:PUBLISH
X-PUBLISHED-TTL:P3D
REFRESH-INTERVAL:P3D
CALSCALE:GREGORIAN
BEGIN:VEVENT
DTSTART:20100812T123000Z
DTEND:20100812T201500Z
X-MICROSOFT-CDO-ALLDAYEVENT:FALSE
SUMMARY:2010 August EWC Raffle
DESCRIPTION:
X-ALT-DESC;FMTTYPE=text/html:
LOCATION:
UID:e.2020.786
SEQUENCE:3
DTSTAMP:20260422T203655Z
URL:https://cm-dev.metrosa.com/events/details/2010-august-ewc-raffle-08-12-2010-786
END:VEVENT

END:VCALENDAR
