BEGIN:VCALENDAR
VERSION:2.0
PRODID:-//ChamberMaster//Event Calendar 2.0//EN
METHOD:PUBLISH
X-PUBLISHED-TTL:P3D
REFRESH-INTERVAL:P3D
CALSCALE:GREGORIAN
BEGIN:VEVENT
DTSTART:20100819T203000Z
DTEND:20100819T223000Z
X-MICROSOFT-CDO-ALLDAYEVENT:FALSE
SUMMARY:2010 AUGUST*GRAND OPENING @ Ability Pediatric Therapy
DESCRIPTION:ABILITY PEDIATRIC THERAPY10609 IH 10 West\, Suite 201\, 78230Thursday August 19\, 2010RIBBON CUTTING @ 3:30 p.m.CONTACT: Pam Goble @ 344-5437CHAMBER CONTACT: Samantha Fojtik @ 384-7726DIRECTIONS: 410 West Exit IH10 traveling towards Loop 1604. Exit at Ramsgate/Huebner. You will travel past Papasito's Restaurant\, Joyce Klein Realtors and John Williams Interiors.The office building is at the corner of the I-10 frontage road & Ramsgate in the Ramsgate Plaza Bldg. second floor. Food and Refreshments will be served
X-ALT-DESC;FMTTYPE=text/html:<P>ABILITY PEDIATRIC THERAPY</P><P>10609 IH 10 West\, Suite 201\, 78230</P><P>Thursday August 19\, 2010</P><P>RIBBON CUTTING @ 3:30 p.m.</P><P>CONTACT: Pam Goble @ 344-5437</P><P>CHAMBER CONTACT: Samantha Fojtik @ 384-7726</P><P>DIRECTIONS: 410 West Exit IH10 traveling towards Loop 1604. Exit at Ramsgate/Huebner. You will travel past Papasito's Restaurant\, Joyce Klein Realtors and John Williams Interiors.The office building is at the corner of the I-10 frontage road &amp\; Ramsgate in the Ramsgate Plaza Bldg. second floor. </P><P>Food and Refreshments will be served</P>
LOCATION:Ability Pediatric Therapy
UID:e.2020.788
SEQUENCE:3
DTSTAMP:20260422T204251Z
URL:https://cm-dev.metrosa.com/events/details/2010-august-grand-opening-ability-pediatric-therapy-08-19-2010-788
END:VEVENT

END:VCALENDAR
