BEGIN:VCALENDAR
VERSION:2.0
PRODID:-//ChamberMaster//Event Calendar 2.0//EN
METHOD:PUBLISH
X-PUBLISHED-TTL:P3D
REFRESH-INTERVAL:P3D
CALSCALE:GREGORIAN
BEGIN:VEVENT
DTSTART:20100821T050000Z
DTEND:20100821T050000Z
X-MICROSOFT-CDO-ALLDAYEVENT:FALSE
SUMMARY:2010 August* LLab Alumni* Lucky Duck Race & Fesitval
DESCRIPTION:2010 August* LLab Alumni* Lucky Duck Race & Fesitval
X-ALT-DESC;FMTTYPE=text/html:2010 August* LLab Alumni* Lucky Duck Race & Fesitval
LOCATION:Museum Reach/ Museum Of Art
UID:e.2020.2371
SEQUENCE:3
DTSTAMP:20260422T204458Z
URL:https://cm-dev.metrosa.com/events/details/2010-august-llab-alumni-lucky-duck-race-fesitval-08-21-2010-2371
END:VEVENT

END:VCALENDAR
