BEGIN:VCALENDAR
VERSION:2.0
PRODID:-//ChamberMaster//Event Calendar 2.0//EN
METHOD:PUBLISH
X-PUBLISHED-TTL:P3D
REFRESH-INTERVAL:P3D
CALSCALE:GREGORIAN
BEGIN:VEVENT
DTSTART:20100824T050000Z
DTEND:20100824T050000Z
X-MICROSOFT-CDO-ALLDAYEVENT:FALSE
SUMMARY:2010 August Multi Chamber Mixer
DESCRIPTION:2010 August Multi Chamber Mixer
X-ALT-DESC;FMTTYPE=text/html:2010 August Multi Chamber Mixer
LOCATION:Sunset Station
UID:e.2020.4019
SEQUENCE:3
DTSTAMP:20260422T204154Z
URL:https://cm-dev.metrosa.com/events/details/2010-august-multi-chamber-mixer-08-24-2010-4019
END:VEVENT

END:VCALENDAR
