BEGIN:VCALENDAR
VERSION:2.0
PRODID:-//ChamberMaster//Event Calendar 2.0//EN
METHOD:PUBLISH
X-PUBLISHED-TTL:P3D
REFRESH-INTERVAL:P3D
CALSCALE:GREGORIAN
BEGIN:VEVENT
DTSTART:20100105T060000Z
DTEND:20101231T060000Z
X-MICROSOFT-CDO-ALLDAYEVENT:FALSE
SUMMARY:2010 Certificate of Origin
DESCRIPTION:2010 Certificate of Origin
X-ALT-DESC;FMTTYPE=text/html:2010 Certificate of Origin
LOCATION:North Chamber
UID:e.2020.2303
SEQUENCE:3
DTSTAMP:20260422T154957Z
URL:https://cm-dev.metrosa.com/events/details/2010-certificate-of-origin-01-05-2010-2303
END:VEVENT

END:VCALENDAR
