BEGIN:VCALENDAR
VERSION:2.0
PRODID:-//ChamberMaster//Event Calendar 2.0//EN
METHOD:PUBLISH
X-PUBLISHED-TTL:P3D
REFRESH-INTERVAL:P3D
CALSCALE:GREGORIAN
BEGIN:VEVENT
DTSTART:20101215T223000Z
DTEND:20101216T000000Z
X-MICROSOFT-CDO-ALLDAYEVENT:FALSE
SUMMARY:2010 DEC * RIBBON CUTTING @ Directions Equity Home Loan
DESCRIPTION:DIRECTIONS EQUITY HOME LOAN18730 Stone Oak Parkway\, Ste 208\, 78258Wednesday December 15\, 2010RIBBON CUTTING @ 4:30 p.m.CONTACT: Rachel Crafts @ 257-0642CHAMBER CONTACT: Samantha Fojtik @ 384-7726DIRECTIONS: www.northsachamber.com see map on chamber website at event calendar. Food and Beverages will be served.
X-ALT-DESC;FMTTYPE=text/html:<P>DIRECTIONS EQUITY HOME LOAN</P><P>18730 Stone Oak Parkway\, Ste 208\, 78258</P><P>Wednesday December 15\, 2010</P><P>RIBBON CUTTING @ 4:30 p.m.</P><P>CONTACT: Rachel Crafts @ 257-0642</P><P>CHAMBER CONTACT: Samantha Fojtik @ 384-7726</P><P>DIRECTIONS: www.northsachamber.com see map on chamber website at event calendar. </P><P>Food and Beverages will be served. </P>
LOCATION:Directions Equity Home Loan
UID:e.2020.845
SEQUENCE:3
DTSTAMP:20260422T155557Z
URL:https://cm-dev.metrosa.com/events/details/2010-dec-ribbon-cutting-directions-equity-home-loan-12-15-2010-845
END:VEVENT

END:VCALENDAR
