BEGIN:VCALENDAR
VERSION:2.0
PRODID:-//ChamberMaster//Event Calendar 2.0//EN
METHOD:PUBLISH
X-PUBLISHED-TTL:P3D
REFRESH-INTERVAL:P3D
CALSCALE:GREGORIAN
BEGIN:VEVENT
DTSTART:20101209T210000Z
DTEND:20101209T220000Z
X-MICROSOFT-CDO-ALLDAYEVENT:FALSE
SUMMARY:2010 DEC * RIBBON CUTTING @ HealthTexas Medical Group
DESCRIPTION:HEALTH TEXAS MEDICAL GROUP 20821 US Highway 281 N\, Suite 122\, 78258 Thursday December 9\, 2010 RIBBON CUTTING:@ 3:00 pm CONTACT:Jeff Hunsaker @ 241-7662 CHAMBER CONTACT: Samantha Fojtik @ 384-7726 DIRECTIONS: www.healthtexas.org Food and refreshments will be served
X-ALT-DESC;FMTTYPE=text/html:<DIV style="FONT-FAMILY: Arial">HEALTH TEXAS MEDICAL GROUP</DIV><DIV style="FONT-FAMILY: Arial">&nbsp\;</DIV><DIV style="FONT-FAMILY: Arial">20821 US Highway 281 N\, Suite 122\, 78258</DIV><DIV style="FONT-FAMILY: Arial">&nbsp\;</DIV><DIV style="FONT-FAMILY: Arial">Thursday December 9\, 2010</DIV><DIV style="FONT-FAMILY: Arial">&nbsp\;</DIV><DIV style="FONT-FAMILY: Arial"><STRONG>RIBBON CUTTING:</STRONG>@ 3:00 pm</DIV><DIV style="FONT-FAMILY: Arial">&nbsp\;</DIV><DIV style="FONT-FAMILY: Arial"><STRONG>CONTACT:Jeff Hunsaker @ 241-7662</STRONG></DIV><DIV style="FONT-FAMILY: Arial"><STRONG></STRONG>&nbsp\;</DIV><DIV style="FONT-FAMILY: Arial"><STRONG>CHAMBER CONTACT: Samantha Fojtik @ 384-7726</STRONG></DIV><DIV style="FONT-FAMILY: Arial"><STRONG></STRONG>&nbsp\;</DIV><DIV style="FONT-FAMILY: Arial"><STRONG>DIRECT</STRONG>I<STRONG>ONS: www.healthtexas.org</STRONG></DIV><DIV style="FONT-FAMILY: Arial"><STRONG></STRONG>&nbsp\;</DIV><DIV style="FONT-FAMILY: Arial">Food and refreshments will be served</DIV>
LOCATION:HealthTexas Medical Group
UID:e.2020.829
SEQUENCE:3
DTSTAMP:20260422T155253Z
URL:https://cm-dev.metrosa.com/events/details/2010-dec-ribbon-cutting-healthtexas-medical-group-12-09-2010-829
END:VEVENT

END:VCALENDAR
