BEGIN:VCALENDAR
VERSION:2.0
PRODID:-//ChamberMaster//Event Calendar 2.0//EN
METHOD:PUBLISH
X-PUBLISHED-TTL:P3D
REFRESH-INTERVAL:P3D
CALSCALE:GREGORIAN
BEGIN:VEVENT
DTSTART:20101216T173000Z
DTEND:20101216T190000Z
X-MICROSOFT-CDO-ALLDAYEVENT:FALSE
SUMMARY:2010 December * Ambassador Awards Luncheon
DESCRIPTION:MENU: Fresh Mixed Greens House Salad with Balsamic Vinaigrette 8-oz Grilled Sirloin with Brandy Mushroom Sauce Asparagus with Hollandaise Sauce Croquette Potato Assorted Rolls & Butter Tea & Coffee Dessert: New York Style Cheesecake with Raspberry Chocolate Swirl.
X-ALT-DESC;FMTTYPE=text/html:<P><STRONG>MENU: </STRONG></P><P>Fresh Mixed Greens House Salad with Balsamic Vinaigrette </P><P>8-oz Grilled Sirloin with Brandy Mushroom Sauce </P><P>Asparagus with Hollandaise Sauce </P><P>Croquette Potato </P><P>Assorted Rolls &amp\; Butter </P><P>Tea &amp\; Coffee </P><P><STRONG>Dessert:</STRONG> New York Style Cheesecake with Raspberry Chocolate Swirl.</P>
LOCATION:Oak Hills Country Club
UID:e.2020.839
SEQUENCE:3
DTSTAMP:20260422T155110Z
URL:https://cm-dev.metrosa.com/events/details/2010-december-ambassador-awards-luncheon-12-16-2010-839
END:VEVENT

END:VCALENDAR
