BEGIN:VCALENDAR
VERSION:2.0
PRODID:-//ChamberMaster//Event Calendar 2.0//EN
METHOD:PUBLISH
X-PUBLISHED-TTL:P3D
REFRESH-INTERVAL:P3D
CALSCALE:GREGORIAN
BEGIN:VEVENT
DTSTART:20101204T010000Z
DTEND:20101204T050000Z
X-MICROSOFT-CDO-ALLDAYEVENT:FALSE
SUMMARY:2010 DECEMBER * Lab Alumni Holiday Party
DESCRIPTION:
X-ALT-DESC;FMTTYPE=text/html:
LOCATION:Westin La Cantera Resort Grille
UID:e.2020.836
SEQUENCE:3
DTSTAMP:20260422T155104Z
URL:https://cm-dev.metrosa.com/events/details/2010-december-lab-alumni-holiday-party-12-03-2010-836
END:VEVENT

END:VCALENDAR
