BEGIN:VCALENDAR
VERSION:2.0
PRODID:-//ChamberMaster//Event Calendar 2.0//EN
METHOD:PUBLISH
X-PUBLISHED-TTL:P3D
REFRESH-INTERVAL:P3D
CALSCALE:GREGORIAN
BEGIN:VEVENT
DTSTART:20101201T140000Z
DTEND:20101201T153000Z
X-MICROSOFT-CDO-ALLDAYEVENT:FALSE
SUMMARY:2010 December New Member Reception
DESCRIPTION:
X-ALT-DESC;FMTTYPE=text/html:
LOCATION:North Chamber
UID:e.2020.833
SEQUENCE:3
DTSTAMP:20260422T154940Z
URL:https://cm-dev.metrosa.com/events/details/2010-december-new-member-reception-12-01-2010-833
END:VEVENT

END:VCALENDAR
