BEGIN:VCALENDAR
VERSION:2.0
PRODID:-//ChamberMaster//Event Calendar 2.0//EN
METHOD:PUBLISH
X-PUBLISHED-TTL:P3D
REFRESH-INTERVAL:P3D
CALSCALE:GREGORIAN
BEGIN:VEVENT
DTSTART:20100211T223000Z
DTEND:20100212T003000Z
X-MICROSOFT-CDO-ALLDAYEVENT:FALSE
SUMMARY:2010 FEB * GRAND OPENING @ Courtyard & Residence Inn by Marr
DESCRIPTION:COURTYARD & RESIDENCE INN BY MARRIOTT @ THE RIM5731 Rim Pass Drive\, 78257Thursday\, February 11\, 2010RIBBON CUTTING @ 4:30 pm and Grand Opening Party 5 - 8 pmCONTACT: Steve Villarreal @ 246-7481CHAMBER CONTACT: Samantha Collins @ 364-1581DIRECTIONS: Travel on Loop 1604 towards Six Flags Fiesta Texas. Take the IH 10 West Exit.Merge onto IH 10. Take the first exit which is Fiesta Texas/La Cantera Exit #555. Once you exit you move over to the right side on the access road of IH 10. Make a right on to Rim Pass. You'll see the Courtyard Tower and behind it is the Residence Inn Tower. They are side-by-side towers at The RIM Shopping Center.Food & Beverages will be provided. Stay among the best upscale San Antonio Northwest hotels at The Rim! The brand new Courtyard San Antonio Northwest at The Rim Shopping Center offers the refreshing business accommodations you are looking for! Ideally located off I-10 West at The Rim (Exit #555 off of IH-10)\, you'll find plenty of shopping\, dining and entertainment nearby. This hotel is near Six Flags Fiesta Texas\, Camp Bullis Military Training Base\, The Shops at La Cantera and just minutes to other fantastic San Antonio attractions SeaWorld\, The Alamo\, River Walk\, University of Texas San Antonio - UTSA and the San Antonio Zoo. Relax\, socialize or stay productive in our inspirational public areas with media pods\, communal table\, Bistro and more! Unwind in our pool\, fitness center and cocktail lounge. Courtyard San Antonio Northwest at The Rim hotel offers FREE WiFi throughout the hotel. Enjoy a reasonably priced breakfast or dinner in The Bistro. We look forward to providing you the excellent service you deserve.
X-ALT-DESC;FMTTYPE=text/html:<P>COURTYARD &amp\; RESIDENCE INN BY MARRIOTT @ THE RIM</P><P>5731 Rim Pass Drive\, 78257</P><P>Thursday\, February 11\, 2010</P><P>RIBBON CUTTING @ 4:30 pm and Grand Opening Party 5 - 8 pm</P><P>CONTACT: Steve Villarreal @ 246-7481</P><P>CHAMBER CONTACT: Samantha Collins @ 364-1581</P><P>DIRECTIONS: Travel on Loop 1604 towards Six Flags Fiesta Texas. Take the IH 10 West Exit.Merge onto IH 10. Take the first exit which is Fiesta Texas/La Cantera Exit #555. Once you exit you move over to the right side on the access road of IH 10. Make a right on to Rim Pass. You'll see the Courtyard Tower and behind it is the Residence Inn Tower. They are side-by-side towers at The RIM Shopping Center.</P><P>Food &amp\; Beverages will be provided. </P><P><EM>Stay among the best upscale San Antonio Northwest hotels at The Rim! The brand new Courtyard San Antonio Northwest at The Rim Shopping Center offers the refreshing business accommodations you are looking for! Ideally located off I-10 West at The Rim (Exit #555 off of IH-10)\, you'll find plenty of shopping\, dining and entertainment nearby. This hotel is near Six Flags Fiesta Texas\, Camp Bullis Military Training Base\, The Shops at La Cantera and just minutes to other fantastic San Antonio attractions SeaWorld\, The Alamo\, River Walk\, University of Texas San Antonio - UTSA and the San Antonio Zoo. Relax\, socialize or stay productive in our inspirational public areas with media pods\, communal table\, Bistro and more! Unwind in our pool\, fitness center and cocktail lounge. Courtyard San Antonio Northwest at The Rim hotel offers FREE WiFi throughout the hotel. Enjoy a reasonably priced breakfast or dinner in The Bistro. We look forward to providing you the excellent service you deserve.</EM> </P>
LOCATION:Courtyard & Residence Inn by Marriott
UID:e.2020.730
SEQUENCE:3
DTSTAMP:20260424T141403Z
URL:https://cm-dev.metrosa.com/events/details/2010-feb-grand-opening-courtyard-residence-inn-by-marr-02-11-2010-730
END:VEVENT

END:VCALENDAR
