BEGIN:VCALENDAR
VERSION:2.0
PRODID:-//ChamberMaster//Event Calendar 2.0//EN
METHOD:PUBLISH
X-PUBLISHED-TTL:P3D
REFRESH-INTERVAL:P3D
CALSCALE:GREGORIAN
BEGIN:VEVENT
DTSTART:20100114T210000Z
DTEND:20100114T230000Z
X-MICROSOFT-CDO-ALLDAYEVENT:FALSE
SUMMARY:2010 JAN * GRAND OPENING @ Barbaresco Restaurant & Bar
DESCRIPTION:BARBARESCO RESTAURANT-BAR9715 San Pedro Avenue\, 78216Thursday January 14\, 2010RIBBON CUTTING @ 4:00p.m. - EVENT is 3-5pmCONTACT: Marlowe Fuentes @ 467-7992 or Michel Adib\, Owner @ 231-0989CHAMBER CONTACT: Samantha Collins @ 344-4848DIRECTIONS: www.barbaresco.net Food and refreshments will be served.
X-ALT-DESC;FMTTYPE=text/html:<P>BARBARESCO RESTAURANT-BAR</P><P>9715 San Pedro Avenue\, 78216</P><P>Thursday January 14\, 2010</P><P>RIBBON CUTTING @ 4:00p.m. - EVENT is 3-5pm</P><P>CONTACT: Marlowe Fuentes @ 467-7992 or Michel Adib\, Owner @ 231-0989</P><P>CHAMBER CONTACT: Samantha Collins @ 344-4848</P><P>DIRECTIONS: <A href="http://www.barbaresco.net">www.barbaresco.net</A> </P><P>Food and refreshments will be served. </P>
LOCATION:Barbaresco Restaurant & Bar
UID:e.2020.713
SEQUENCE:3
DTSTAMP:20260424T153748Z
URL:https://cm-dev.metrosa.com/events/details/2010-jan-grand-opening-barbaresco-restaurant-bar-01-14-2010-713
END:VEVENT

END:VCALENDAR
