BEGIN:VCALENDAR
VERSION:2.0
PRODID:-//ChamberMaster//Event Calendar 2.0//EN
METHOD:PUBLISH
X-PUBLISHED-TTL:P3D
REFRESH-INTERVAL:P3D
CALSCALE:GREGORIAN
BEGIN:VEVENT
DTSTART:20100722T121500Z
DTEND:20100722T140000Z
X-MICROSOFT-CDO-ALLDAYEVENT:FALSE
SUMMARY:2010 July CIO Breakfast
DESCRIPTION:Norm Thurow\, CIO Zachry\, will present on Compliance & Records ManagementNOTE:  June event at Tesoro Campus\nSite Location and Directions:\nTesoro’s address\, 19100 Ridgewood Parkway\, is now on Google maps.\n You can now enter the building from both Redland Road and Sonterra A pdf with official directions is attached. Directions is also located on our website athttp://www.tsocorp.com/stellent/groups/corpcomm/documents/gt_contribution/001271.pdf
X-ALT-DESC;FMTTYPE=text/html:<P class=MsoNormal><FONT color=#ff0000>Norm Thurow\, CIO Zachry\, will present on Compliance &amp\; Records Management</FONT></P><P class=MsoNormal><B>NOTE:&nbsp\; June event at Tesoro Campus<BR></B><B>Site Location and Directions:<BR></B><SPAN style="COLOR: #17365d\; FONT-FAMILY: 'Arial'\,'sans-serif'"><STRONG>Tesoro’s address\, 19100 Ridgewood Parkway\, is now on Google maps.<BR></STRONG></SPAN><SPAN style="COLOR: #17365d\; FONT-FAMILY: Symbol"><SPAN style="mso-list: Ignore"><SPAN style="FONT: 7pt 'Times New Roman'">&nbsp\;</SPAN></SPAN></SPAN><B><SPAN style="COLOR: #17365d\; FONT-FAMILY: 'Arial'\,'sans-serif'">You can now enter the building from both Redland Road and Sonterra<?xml:namespace prefix = o ns = "urn:schemas-microsoft-com:office:office" /><o:p></o:p></SPAN></B></P><P class=MsoNormal><B><SPAN style="COLOR: #17365d\; FONT-FAMILY: 'Arial'\,'sans-serif'"><o:p>&nbsp\;</o:p></SPAN></B>A pdf with official directions is attached. Directions is also located on our website at</P><P><A title=http://www.tsocorp.com/stellent/groups/corpcomm/documents/gt_contribution/001271.pdf href="http://www.tsocorp.com/stellent/groups/corpcomm/documents/gt_contribution/001271.pdf">http://www.tsocorp.com/stellent/groups/corpcomm/documents/gt_contribution/001271.pdf</A></P>
LOCATION:Tesoro Corporation
UID:e.2020.784
SEQUENCE:3
DTSTAMP:20260424T081753Z
URL:https://cm-dev.metrosa.com/events/details/2010-july-cio-breakfast-07-22-2010-784
END:VEVENT

END:VCALENDAR
