BEGIN:VCALENDAR
VERSION:2.0
PRODID:-//ChamberMaster//Event Calendar 2.0//EN
METHOD:PUBLISH
X-PUBLISHED-TTL:P3D
REFRESH-INTERVAL:P3D
CALSCALE:GREGORIAN
BEGIN:VEVENT
DTSTART:20100717T190000Z
DTEND:20100717T210000Z
X-MICROSOFT-CDO-ALLDAYEVENT:FALSE
SUMMARY:2010 July GRAND OPENING @ Chase Bank
DESCRIPTION:CHASE BANK8597 Blanco RoadSaturday July 17\, 2010RIBBON CUTTING @ 2:00 p.m.CONTACT: Kosha Vriseno @ 492-2487CHAMBER CONTACT: Samantha Collins @ 364-1581 cellDIRECTIONS:  Bank is on the corner of Blanco and West Ave. In the same shopping center as Marshalls\, San Antonio Flower Company and Casa Guero.Food and Refreshments will be served. At JPMorgan Chase (NYSE: JPM)\, we do our best to manage and operate our company with a consistent set of business principles and core values. First and foremost\, this means always trying to do the right thing. It means continuing to focus on maintaining a "Fortress Balance Sheet"\, strong capital ratios\, and strong credit ratings. It means being willing to sacrifice short-term growth for long-term opportunity. During these turbulent times\, this approach is vital.
X-ALT-DESC;FMTTYPE=text/html:<P><STRONG>CHASE BANK</STRONG></P><P><STRONG>8597 Blanco Road</STRONG></P><P><STRONG>Saturday July 17\, 2010</STRONG></P><P><STRONG>RIBBON CUTTING @ 2:00 p.m.</STRONG></P><P>CONTACT: Kosha Vriseno @ 492-2487</P><P>CHAMBER CONTACT: Samantha Collins @ 364-1581 cell</P><P>DIRECTIONS:&nbsp\; Bank is on the corner of Blanco and West Ave. In the same shopping center as Marshalls\, San Antonio Flower Company and Casa Guero.</P><P>Food and Refreshments will be served. </P><P><EM><STRONG>At JPMorgan Chase (NYSE: JPM)\, we do our best to manage and operate our company with a consistent set of business principles and core values. First and foremost\, this means always trying to do the right thing. It means continuing to focus on maintaining a "Fortress Balance Sheet"\, strong capital ratios\, and strong credit ratings. It means being willing to sacrifice short-term growth for long-term opportunity. During these turbulent times\, this approach is vital.</STRONG></EM></P>
LOCATION:Chase Bank
UID:e.2020.773
SEQUENCE:3
DTSTAMP:20260424T082405Z
URL:https://cm-dev.metrosa.com/events/details/2010-july-grand-opening-chase-bank-07-17-2010-773
END:VEVENT

END:VCALENDAR
