BEGIN:VCALENDAR
VERSION:2.0
PRODID:-//ChamberMaster//Event Calendar 2.0//EN
METHOD:PUBLISH
X-PUBLISHED-TTL:P3D
REFRESH-INTERVAL:P3D
CALSCALE:GREGORIAN
BEGIN:VEVENT
DTSTART:20100731T170000Z
DTEND:20100731T210000Z
X-MICROSOFT-CDO-ALLDAYEVENT:FALSE
SUMMARY:2010 July GRAND OPENING @ Coffee Gully
DESCRIPTION:COFFEE GULLY18140 US Hwy 281 North\, 78232Saturday July 31\, 2010RIBBON CUTTING @ 12 NoonCONTACT: Charles Lewis-Blunt @ 219-1223 cellCHAMBER CONTACT: Samantha Collins @ 384-7726 DLDIRECTIONS: Inside the H-E-B Store 281N/1604 next to Deli - www.coffeegully.com Food and Refreshments will be served. At our Coffee Bar the coffee is as robust and delicious as the competition and the service is as sweet as our lattes. Coffee Gully joins the many successful Coffee Bars and Coffee Houses across the nation with every intention of making your experience one to remember. Enjoy all your favorite drinks and smoothies at our Coffee Bar. Surprisingly we don't just offer Coffee we are happy to serve tasty breakfast tacos\, and spicy Jamaican Patties . Coffee Gully is a great place to grab that quick Mocha Frappe or maybe a Real Fruit Smoothie for a cool refreshing treat.
X-ALT-DESC;FMTTYPE=text/html:<P>COFFEE GULLY</P><P>18140 US Hwy 281 North\, 78232</P><P>Saturday July 31\, 2010</P><P>RIBBON CUTTING @ 12 Noon</P><P>CONTACT: Charles Lewis-Blunt @ 219-1223 cell</P><P>CHAMBER CONTACT: Samantha Collins @ 384-7726 </P><P>DLDIRECTIONS: Inside the H-E-B Store 281N/1604 next to Deli - <A href="http://www.coffeegully.com">www.coffeegully.com</A> </P><P>Food and Refreshments will be served. </P><P><STRONG><EM>At our Coffee Bar the coffee is as robust and delicious as the competition and the service is as sweet as our lattes. Coffee Gully joins the many successful Coffee Bars and Coffee Houses across the nation with every intention of making your experience one to remember. Enjoy all your favorite drinks and smoothies at our Coffee Bar. Surprisingly we don't just offer Coffee we are happy to serve tasty breakfast tacos\, and spicy Jamaican Patties . Coffee Gully is a great place to grab that quick Mocha Frappe or maybe a Real Fruit Smoothie for a cool refreshing treat.</EM></STRONG></P>
LOCATION:Coffee Gully
UID:e.2020.785
SEQUENCE:3
DTSTAMP:20260424T082211Z
URL:https://cm-dev.metrosa.com/events/details/2010-july-grand-opening-coffee-gully-07-31-2010-785
END:VEVENT

END:VCALENDAR
