BEGIN:VCALENDAR
VERSION:2.0
PRODID:-//ChamberMaster//Event Calendar 2.0//EN
METHOD:PUBLISH
X-PUBLISHED-TTL:P3D
REFRESH-INTERVAL:P3D
CALSCALE:GREGORIAN
BEGIN:VEVENT
DTSTART:20100727T160000Z
DTEND:20100727T180000Z
X-MICROSOFT-CDO-ALLDAYEVENT:FALSE
SUMMARY:2010 July GRAND OPENING/Muscogee Nation Business Enterprise
DESCRIPTION:MUSCOGEE NATION BUSINESS ENTERPRISE1100 NE Loop 410\, Suite 220 - 78209Tuesday July 27\, 2010RIBBON CUTTING @ 11:00 A.M.CONTACT: Rodenna Biering @ 771-4372 / Frank Morales @ 658-3904CHAMBER CONTACT: Samantha Collins @ 344-4848DIRECTIONS: Please view map at website Calendar of Events www.northsachamber.comFood and Refreshments will be served. Professional Services Division: The Professional Services Division specializes in providing Enterprise Information Technology Services\, Project/Program Management\, and Scientific and Research Support for customers at locations across the US as well as abroad. MNBE has three areas of Professional Services advanced practices. These are:Enterprise Information Technology for Institutions:Within this practice MNBE focuses on our institutional customers. These customers have enterprise-wide missions supporting multiple facilities across the nation/world. Support for these customers include the ability to work with a variety of environments and international operating guidelines and standards such as HIPPA\, DoD 5000\, ISO 9000 as well as more specific institutional and research directives.Project/Program Management for Enterprises: This practice allows MNBE to provide services required by our customers to manage Enterprise-wide technology programs and projects ranging in scope from less than $100k single-agency to multi-agency programs overseeing many millions of dollars. Several personnel in this group hold Project Management Professional (PMP®) certification while many others are in-progress towards certification.Scientific and Research Support: This area includes Research Assistants\, Statisticians\, Senior Technical Writers\, Analysts\, Information Technology Professionals\, and\, Medical Technology Trainers. The focus of this practice is to provide our customers with personnel who are adept in working in facilities conducting the highest levels of medical and scientific research. Our award-winning personnel excel at providing support services at research and medical facilities that are on the cutting edge of research as well as world-class patient care.
X-ALT-DESC;FMTTYPE=text/html:<P>MUSCOGEE NATION BUSINESS ENTERPRISE</P><P>1100 NE Loop 410\, Suite 220 - 78209</P><P>Tuesday July 27\, 2010</P><P>RIBBON CUTTING @ 11:00 A.M.</P><P>CONTACT: Rodenna Biering @ 771-4372 / Frank Morales @ 658-3904</P><P>CHAMBER CONTACT: Samantha Collins @ 344-4848</P><P>DIRECTIONS: Please view map at website Calendar of Events <A href="http://www.northsachamber.com">www.northsachamber.com</A></P><P>Food and Refreshments will be served. </P><P><STRONG><EM>Professional Services Division:</EM></STRONG> The Professional Services Division specializes in providing Enterprise Information Technology Services\, Project/Program Management\, and Scientific and Research Support for customers at locations across the US as well as abroad. MNBE has three areas of Professional Services advanced practices. These are:</P><P><STRONG><EM>Enterprise Information Technology for Institutions:</EM></STRONG>Within this practice MNBE focuses on our institutional customers. These customers have enterprise-wide missions supporting multiple facilities across the nation/world. Support for these customers include the ability to work with a variety of environments and international operating guidelines and standards such as HIPPA\, DoD 5000\, ISO 9000 as well as more specific institutional and research directives.</P><P><EM><STRONG>Project/Program Management for Enterprises: </STRONG></EM>This practice allows MNBE to provide services required by our customers to manage Enterprise-wide technology programs and projects ranging in scope from less than $100k single-agency to multi-agency programs overseeing many millions of dollars. Several personnel in this group hold Project Management Professional (PMP®) certification while many others are in-progress towards certification.</P><P><EM><STRONG>Scientific and Research Support: </STRONG></EM>This area includes Research Assistants\, Statisticians\, Senior Technical Writers\, Analysts\, Information Technology Professionals\, and\, Medical Technology Trainers. The focus of this practice is to provide our customers with personnel who are adept in working in facilities conducting the highest levels of medical and scientific research. Our award-winning personnel excel at providing support services at research and medical facilities that are on the cutting edge of research as well as world-class patient care.</P>
LOCATION:Muscogee Nation Business Enterprise
UID:e.2020.783
SEQUENCE:3
DTSTAMP:20260424T082537Z
URL:https://cm-dev.metrosa.com/events/details/2010-july-grand-opening-muscogee-nation-business-enterprise-07-27-2010-783
END:VEVENT

END:VCALENDAR
