BEGIN:VCALENDAR
VERSION:2.0
PRODID:-//ChamberMaster//Event Calendar 2.0//EN
METHOD:PUBLISH
X-PUBLISHED-TTL:P3D
REFRESH-INTERVAL:P3D
CALSCALE:GREGORIAN
BEGIN:VEVENT
DTSTART:20100714T050000Z
DTEND:20100714T050000Z
X-MICROSOFT-CDO-ALLDAYEVENT:FALSE
SUMMARY:2010 July LLAB Alumni Throwdown Event Payments
DESCRIPTION:2010 July LLAB Alumni Throwdown Event Payments
X-ALT-DESC;FMTTYPE=text/html:2010 July LLAB Alumni Throwdown Event Payments
LOCATION:The Cove
UID:e.2020.2375
SEQUENCE:3
DTSTAMP:20260424T082000Z
URL:https://cm-dev.metrosa.com/events/details/2010-july-llab-alumni-throwdown-event-payments-07-14-2010-2375
END:VEVENT

END:VCALENDAR
