BEGIN:VCALENDAR
VERSION:2.0
PRODID:-//ChamberMaster//Event Calendar 2.0//EN
METHOD:PUBLISH
X-PUBLISHED-TTL:P3D
REFRESH-INTERVAL:P3D
CALSCALE:GREGORIAN
BEGIN:VEVENT
DTSTART:20100617T163000Z
DTEND:20100617T180000Z
X-MICROSOFT-CDO-ALLDAYEVENT:FALSE
SUMMARY:2010 June Ambassador's Lunch Meeting
DESCRIPTION:DATE & TIME:	THURSDAY June 17\, 2010\n			11:00 Networking/Registration\n			11:30 Serving Lunch\n			1:00 p.m. Meeting adjourned\n			 \nLOCATION:		HYATT PLACE SAN ANTONIO NORTH/ STONE OAK\n			1st Floor Main Conference Room\n			1610 East Sonterra Blvd.  78258\nDirections call 545-2810 and map on chamber website\n			 \nMENU:		Cool Wrap Lunch:  Lower Sodium Savvy Chicken Salad with almonds\,\nMediterranean\, and Turkey Wraps\, rolled in organic wheat wraps. \nServed with organic blue corn tortilla chips and our family recipe salsa and fruit.\nDessert\, Iced Tea and Jason's Water Bottles included.
X-ALT-DESC;FMTTYPE=text/html:DATE & TIME:	THURSDAY June 17\, 2010\n			11:00 Networking/Registration\n			11:30 Serving Lunch\n			1:00 p.m. Meeting adjourned\n			 \nLOCATION:		HYATT PLACE SAN ANTONIO NORTH/ STONE OAK\n			1st Floor Main Conference Room\n			1610 East Sonterra Blvd.  78258\nDirections call 545-2810 and map on chamber website\n			 \nMENU:		Cool Wrap Lunch:  Lower Sodium Savvy Chicken Salad with almonds\,\nMediterranean\, and Turkey Wraps\, rolled in organic wheat wraps. \nServed with organic blue corn tortilla chips and our family recipe salsa and fruit.\nDessert\, Iced Tea and Jason's Water Bottles included. \n
LOCATION:Hyatt Place San Antonio N/ Stone Oak
UID:e.2020.762
SEQUENCE:3
DTSTAMP:20260424T093128Z
URL:https://cm-dev.metrosa.com/events/details/2010-june-ambassador-s-lunch-meeting-06-17-2010-762
END:VEVENT

END:VCALENDAR
