BEGIN:VCALENDAR
VERSION:2.0
PRODID:-//ChamberMaster//Event Calendar 2.0//EN
METHOD:PUBLISH
X-PUBLISHED-TTL:P3D
REFRESH-INTERVAL:P3D
CALSCALE:GREGORIAN
BEGIN:VEVENT
DTSTART:20100608T130000Z
DTEND:20100608T153000Z
X-MICROSOFT-CDO-ALLDAYEVENT:FALSE
SUMMARY:2010 June LLABA**Going Green: Watts\, Water & LEED\, Oh My!
DESCRIPTION:
X-ALT-DESC;FMTTYPE=text/html:
LOCATION:CPS Energy Training Center
UID:e.2020.745
SEQUENCE:3
DTSTAMP:20260424T093127Z
URL:https://cm-dev.metrosa.com/events/details/2010-june-llaba-going-green-watts-water-leed-oh-my-06-08-2010-745
END:VEVENT

END:VCALENDAR
