BEGIN:VCALENDAR
VERSION:2.0
PRODID:-//ChamberMaster//Event Calendar 2.0//EN
METHOD:PUBLISH
X-PUBLISHED-TTL:P3D
REFRESH-INTERVAL:P3D
CALSCALE:GREGORIAN
BEGIN:VEVENT
DTSTART:20100323T220000Z
DTEND:20100324T000000Z
X-MICROSOFT-CDO-ALLDAYEVENT:FALSE
SUMMARY:2010 MARCH * RIBBON CUTTING @ Candlewood Suites/Stone Oak
DESCRIPTION:CANDLEWOOD SUITES STONE OAK AREA21103 Encino Commons Blvd\, 78259Tuesday March 23\, 2010RIBBON CUTTING @ 5:00 p.m.CONTACT: Melissa Kim @ 545-2477CHAMBER CONTACT: Samantha Collins @ 364-1581 CellDIRECTIONS: www.candlewoodsuites.com/stoneoakarea Go to this website and directions are there. Scroll down homepage and you can view the map to location.Food and Refreshments will be served.The Candlewood Suites North-Stone Oak Area hotel nestles on the natural stone landscaping in the north central corridor of San Antonio. The 113 suite hotel is located North of Loop 1604 near the 281 & Evans Rd intersection. Our hotel is only minutes away from Tesoro\, Pearson\, North Methodist Hospital\, Energy Transfer\, HEB Plus and WalMart.
X-ALT-DESC;FMTTYPE=text/html:<P>CANDLEWOOD SUITES STONE OAK AREA</P><P>21103 Encino Commons Blvd\, 78259</P><P>Tuesday March 23\, 2010</P><P>RIBBON CUTTING @ 5:00 p.m.</P><P>CONTACT: Melissa Kim @ 545-2477</P><P>CHAMBER CONTACT: Samantha Collins @ 364-1581 Cell</P><P>DIRECTIONS: www.candlewoodsuites.com/stoneoakarea Go to this website and directions are there. Scroll down homepage and you can view the map to location.</P><P>Food and Refreshments will be served.</P><P><EM><STRONG>The Candlewood Suites North-Stone Oak Area hotel nestles on the natural stone landscaping in the north central corridor of San Antonio. The 113 suite hotel is located North of Loop 1604 near the 281 &amp\; Evans Rd intersection. Our hotel is only minutes away from Tesoro\, Pearson\, North Methodist Hospital\, Energy Transfer\, HEB Plus and WalMart.</STRONG></EM></P>
LOCATION:Candlewood Suites - Stone Oak Area
UID:e.2020.684
SEQUENCE:3
DTSTAMP:20260424T125216Z
URL:https://cm-dev.metrosa.com/events/details/2010-march-ribbon-cutting-candlewood-suites-stone-oak-03-23-2010-684
END:VEVENT

END:VCALENDAR
