BEGIN:VCALENDAR
VERSION:2.0
PRODID:-//ChamberMaster//Event Calendar 2.0//EN
METHOD:PUBLISH
X-PUBLISHED-TTL:P3D
REFRESH-INTERVAL:P3D
CALSCALE:GREGORIAN
BEGIN:VEVENT
DTSTART:20100325T210000Z
DTEND:20100325T230000Z
X-MICROSOFT-CDO-ALLDAYEVENT:FALSE
SUMMARY:2010 MARCH * RIBBON CUTTING @ National Mutiple Sclerosis Soc
DESCRIPTION:NATIONAL MUTIPLE SCLEROSIS SOCIETY9830 Colonnade Blvd Ste 130\, 78230Thursday March 25\, 2010 RIBBON CUTTING @ 4:00 P.M.CONTACT: Lisa Dannenbaum Shaw @ 694-3229CHAMBER CONTACT: Samantha Collins @ 384-7726DIRECTIONS: www.nmss.org    Food and Refreshments will be served. The National MS Society is a collective of passionate individuals who want to do something about MS now—to move together toward a world free of multiple sclerosis. MS stops people from moving. We exist to make sure it doesn't.We help each person address the challenges of living with MS through our 50-state network of chapters. The Society helps people affected by MS by funding cutting-edge research\, driving change through advocacy\, facilitating professional education\, and providing programs and services that help people with MS and their families move their lives forward.
X-ALT-DESC;FMTTYPE=text/html:<P>NATIONAL MUTIPLE SCLEROSIS SOCIETY</P><P>9830 Colonnade Blvd Ste 130\, 78230</P><P>Thursday March 25\, 2010 </P><P>RIBBON CUTTING @ 4:00 P.M.</P><P>CONTACT: Lisa Dannenbaum Shaw @ 694-3229</P><P>CHAMBER CONTACT: Samantha Collins @ 384-7726</P><P>DIRECTIONS: <A href="http://www.nmss.org">www.nmss.org</A>&nbsp\;&nbsp\;&nbsp\; </P><P>Food and Refreshments will be served. </P><P><EM>The National MS Society is a collective of passionate individuals who want to do something about MS now—to move together toward a world free of multiple sclerosis. MS stops people from moving. We exist to make sure it doesn't.</EM></P><P><EM>We help each person address the challenges of living with MS through our 50-state network of chapters. The Society helps people affected by MS by funding cutting-edge research\, driving change through advocacy\, facilitating professional education\, and providing programs and services that help people with MS and their families move their lives forward.</EM></P>
LOCATION:National Mutiple Sclerosis Society
UID:e.2020.739
SEQUENCE:3
DTSTAMP:20260424T125309Z
URL:https://cm-dev.metrosa.com/events/details/2010-march-ribbon-cutting-national-mutiple-sclerosis-soc-03-25-2010-739
END:VEVENT

END:VCALENDAR
