BEGIN:VCALENDAR
VERSION:2.0
PRODID:-//ChamberMaster//Event Calendar 2.0//EN
METHOD:PUBLISH
X-PUBLISHED-TTL:P3D
REFRESH-INTERVAL:P3D
CALSCALE:GREGORIAN
BEGIN:VEVENT
DTSTART:20100513T163000Z
DTEND:20100513T180000Z
X-MICROSOFT-CDO-ALLDAYEVENT:FALSE
SUMMARY:2010 May Ambassador's Lunch Meeting
DESCRIPTION:DATE & TIME:   THURSDAY May 13\, 2010 - NOTE IT IS THE SECOND THURSDAY 11:00 Networking/Registration 11:30 Serving Lunch 1:00 p.m. Meeting adjourned Location: Springhill Suites San Antonio Airport 1st Floor Main Conference Room 514 NE Loop 410\, 78216Directions: Call (210) 804-2266 and map on chamber website MENU: *Traditional Sandwich Tray - Premium ham\, oven roasted turkey breast\, smoked turkey  breast\, roast beef\, our family recipe tuna salad & chicken salad with almonds - on  white\, whole grain wheat and rye breads with lettuce and tomatoes. Cut in quarters\, with mayo and mustard on the side\, chips and pickles.*Nutty Mixed Up Side Salad: Organic field greens\, grapes\, walnuts\, dried cranberries\, pumpkin seeds\, organic apples\, raisins and feta. Served with Leo’s Balsamic Vinaigrette or Ranch. *Dessert Tray (Assortment of cookies\, brownies and baklava)  *Iced Tea / Bottled WatersPRICE: $13 All-inclusive RSVP'S: DEADLINE IS TUESDAY - May 11\, 2010 REGISTER ON LINE WITH CREDIT CARD @ www.northsachamber.com
X-ALT-DESC;FMTTYPE=text/html:<P><U><STRONG>DATE &amp\; TIME:&nbsp\;&nbsp\; THURSDAY May 13\, 2010 - NOTE IT IS THE SECOND THURSDAY</STRONG></U> </P><P>11:00 Networking/Registration </P><P>11:30 Serving Lunch </P><P>1:00 p.m. Meeting adjourned </P><P>Location: Springhill Suites San Antonio Airport </P><P>1st Floor Main Conference Room </P><P>514 NE Loop 410\, 78216</P><P>Directions: Call (210) 804-2266 and map on chamber website </P><P><STRONG>MENU:</STRONG> <SPAN style="FONT-SIZE: 12pt">*<B style="mso-bidi-font-weight: normal">Traditional Sandwich Tray </B>- Premium ham\, oven roasted turkey breast\, smoked<SPAN style="mso-spacerun: yes">&nbsp\;</SPAN>turkey <SPAN style="mso-spacerun: yes">&nbsp\;</SPAN>breast\, roast beef\, our family recipe tuna salad &amp\; chicken salad with almonds -<SPAN style="mso-tab-count: 4">&nbsp\;</SPAN>on <SPAN style="mso-spacerun: yes">&nbsp\;</SPAN>white\, whole grain wheat and rye breads with lettuce and tomatoes. Cut in quarters\, with mayo and mustard on the side\, chips and pickles.<?xml:namespace prefix = o ns = "urn:schemas-microsoft-com:office:office" /><o:p></o:p></SPAN></P><P style="MARGIN: 0in 0in 0pt\; mso-layout-grid-align: none" class=MsoNormal><SPAN style="FONT-SIZE: 12pt">*<B style="mso-bidi-font-weight: normal">Nutty Mixed Up Side Salad: </B>O<SPAN style="COLOR: #191919">rganic field greens\, grapes\,&nbsp\;</SPAN></SPAN><SPAN style="COLOR: #191919\; FONT-SIZE: 12pt">walnuts\, dried cranberries\, pumpkin seeds\, organic apples\, raisins and feta. Served with&nbsp\;</SPAN><SPAN style="COLOR: #191919\; FONT-SIZE: 12pt">Leo’s Balsamic Vinaigrette or Ranch.</SPAN></P><P style="MARGIN: 0in 0in 0pt\; mso-layout-grid-align: none" class=MsoNormal><SPAN style="COLOR: #191919\; FONT-SIZE: 12pt"><o:p></o:p></SPAN>&nbsp\;</P><P style="MARGIN: 0in 0in 0pt" class=MsoNormal><SPAN style="FONT-SIZE: 12pt">*<B style="mso-bidi-font-weight: normal">Dessert Tray (Assortment of cookies\, brownies and baklava)</B> <o:p></o:p></SPAN></P><P style="MARGIN: 0in 0in 0pt" class=MsoNormal><SPAN style="FONT-SIZE: 12pt"><B style="mso-bidi-font-weight: normal"></B></SPAN>&nbsp\;</P><P style="MARGIN: 0in 0in 0pt" class=MsoNormal><SPAN style="FONT-SIZE: 12pt"><B style="mso-bidi-font-weight: normal">*Iced Tea / Bottled Waters<o:p></o:p></B></SPAN></P><P>PRICE: $13 All-inclusive </P><P>RSVP'S: DEADLINE IS TUESDAY - May 11\, 2010&nbsp\;</P><P>REGISTER ON LINE WITH CREDIT CARD @ www.northsachamber.com</P>
LOCATION:Springhill Suites SA Airport
UID:e.2020.761
SEQUENCE:3
DTSTAMP:20260424T103934Z
URL:https://cm-dev.metrosa.com/events/details/2010-may-ambassador-s-lunch-meeting-05-13-2010-761
END:VEVENT

END:VCALENDAR
