BEGIN:VCALENDAR
VERSION:2.0
PRODID:-//ChamberMaster//Event Calendar 2.0//EN
METHOD:PUBLISH
X-PUBLISHED-TTL:P3D
REFRESH-INTERVAL:P3D
CALSCALE:GREGORIAN
BEGIN:VEVENT
DTSTART:20100506T210000Z
DTEND:20100506T230000Z
X-MICROSOFT-CDO-ALLDAYEVENT:FALSE
SUMMARY:2010 May GRAND OPENING @ Fan Antonio
DESCRIPTION:FAN ANTONIO434 N Loop 1604 W\, Suite 1109\,  78232Thursday May 6\, 2010RIBBON CUTTING @ 4:00 p.m.CONTACT: Chuck Williams @ 495-0933 Store/386-8468 CellCHAMBER CONTACT: Samantha Collins @ 384-1581DIRECTIONS: www.fan-antonio.com in shopping center with Silo Restaurant - travel east on the 1604 access road between Blanco and Stone Oak Pkwy Food and Refreshments will be served.
X-ALT-DESC;FMTTYPE=text/html:<P>FAN ANTONIO</P><P>434 N Loop 1604 W\, Suite 1109\,&nbsp\;&nbsp\;78232</P><P>Thursday May 6\, 2010</P><P>RIBBON CUTTING @ 4:00 p.m.</P><P>CONTACT: Chuck Williams @ 495-0933 Store/386-8468 Cell</P><P>CHAMBER CONTACT: Samantha Collins @ 384-1581</P><P>DIRECTIONS: <U>www.fan-antonio.com</U> in shopping center with Silo Restaurant - travel east on the 1604 access road between Blanco and Stone Oak Pkwy </P><P>Food and Refreshments will be served. </P>
LOCATION:Fan Antonio
UID:e.2020.769
SEQUENCE:3
DTSTAMP:20260424T103942Z
URL:https://cm-dev.metrosa.com/events/details/2010-may-grand-opening-fan-antonio-05-06-2010-769
END:VEVENT

END:VCALENDAR
