BEGIN:VCALENDAR
VERSION:2.0
PRODID:-//ChamberMaster//Event Calendar 2.0//EN
METHOD:PUBLISH
X-PUBLISHED-TTL:P3D
REFRESH-INTERVAL:P3D
CALSCALE:GREGORIAN
BEGIN:VEVENT
DTSTART:20100610T210000Z
DTEND:20100610T230000Z
X-MICROSOFT-CDO-ALLDAYEVENT:FALSE
SUMMARY:2010 May GRAND OPENING @ Perfectly Wrapped
DESCRIPTION:PERFECTLY WRAPPED1919 Lockhill Selma\, 78213Thursday June 10\, 2010**DATE CHANGED FROM MAY 27TH**RIBBON CUTTING @ 4:00 P.M.CONTACT: Gretchen Olivares @ 375-8400CHAMBER CONTACT: Samantha Collins @ 344-4848DIRECTIONS: Travel 410 W - Exit at the Castle Hills exit and turn on to Lockhill Selma. Travel through light at West Avenue and next light is N Winston Lane. The store is on the right. It is a stand alone building.Food and Refreshments will be served.We are a premier paper boutique with a fresh approach to fine stationery\, social invitations and custom printing for all of your special events. The fine art of written communication on exquisite stationery is reinvigorated with our inspiring selection of paper and vast array of social albums. Let us assist you in the selection of your invitations\, personalized stationery\, ribbon\, cups\, napkins\, favor boxes\, gift accessories and personalized gifts for the special occasion in your life.
X-ALT-DESC;FMTTYPE=text/html:<P>PERFECTLY WRAPPED</P><P>1919 Lockhill Selma\, 78213</P><P>Thursday June 10\, 2010**DATE CHANGED FROM MAY 27TH**</P><P>RIBBON CUTTING @ 4:00 P.M.</P><P>CONTACT: Gretchen Olivares @ 375-8400</P><P>CHAMBER CONTACT: Samantha Collins @ 344-4848</P><P>DIRECTIONS: Travel 410 W - Exit at the Castle Hills exit and turn on to Lockhill Selma. Travel through light at West Avenue and next light is N Winston Lane. The store is on the right. It is a stand alone building.</P><P>Food and Refreshments will be served.</P><P><EM>We are a premier paper boutique with a fresh approach to fine stationery\, social invitations and custom printing for all of your special events. The fine art of written communication on exquisite stationery is reinvigorated with our inspiring selection of paper and vast array of social albums. Let us assist you in the selection of your invitations\, personalized stationery\, ribbon\, cups\, napkins\, favor boxes\, gift accessories and personalized gifts for the special occasion in your life.</EM></P>
LOCATION:Perfectly Wrapped
UID:e.2020.772
SEQUENCE:3
DTSTAMP:20260424T093022Z
URL:https://cm-dev.metrosa.com/events/details/2010-may-grand-opening-perfectly-wrapped-06-10-2010-772
END:VEVENT

END:VCALENDAR
