BEGIN:VCALENDAR
VERSION:2.0
PRODID:-//ChamberMaster//Event Calendar 2.0//EN
METHOD:PUBLISH
X-PUBLISHED-TTL:P3D
REFRESH-INTERVAL:P3D
CALSCALE:GREGORIAN
BEGIN:VEVENT
DTSTART:20101116T060000Z
DTEND:20101116T060000Z
X-MICROSOFT-CDO-ALLDAYEVENT:FALSE
SUMMARY:2010 Nov * New Member Reception * MOVED TO DEC 1
DESCRIPTION:
X-ALT-DESC;FMTTYPE=text/html:
LOCATION:North Chamber
UID:e.2020.707
SEQUENCE:3
DTSTAMP:20260422T171723Z
URL:https://cm-dev.metrosa.com/events/details/2010-nov-new-member-reception-moved-to-dec-1-11-16-2010-707
END:VEVENT

END:VCALENDAR
