BEGIN:VCALENDAR
VERSION:2.0
PRODID:-//ChamberMaster//Event Calendar 2.0//EN
METHOD:PUBLISH
X-PUBLISHED-TTL:P3D
REFRESH-INTERVAL:P3D
CALSCALE:GREGORIAN
BEGIN:VEVENT
DTSTART:20101118T233000Z
DTEND:20101119T013000Z
X-MICROSOFT-CDO-ALLDAYEVENT:FALSE
SUMMARY:2010 NOV*Ribbon Cutting @ Holiday Inn North Hill Country
DESCRIPTION:HOLIDAY INN NORTH HILL COUNTRY 19280 Redland RoadThursday November 18\, 2010RIBBON CUTTING @ 5:30 p.m.CONTACT: Melissa Kim @ 298-8820CHAMBER CONTACT: Samantha Fojtik @ 384-7726DIRECTIONS: Travel North on Hwy 281 and turn right on to Redland Road. Hotel is on the right. Food and Refreshments will be servedWelcome to the new Holiday Inn San Antonio North-Hill Country. We are excited to be your premier hotel while visiting the Hill Country. You will enjoy all the benefits of this new Holiday Inn such as in-room safes\, microwave\, refrigerator and Kem's Restaurant and Lounge featuring favorite American dishes with in-room dining for breakfast and dinner. We also offer complimentary wired and wireless HSIA\, 24-hour business center\, indoor pool\, whirlpool and fitness center.
X-ALT-DESC;FMTTYPE=text/html:<DIV style="FONT-FAMILY: Arial"><FONT size=4><FONT size=4><P><FONT size=3 face="Times New Roman">HOLIDAY INN NORTH HILL COUNTRY </FONT></P><P><FONT size=3 face="Times New Roman">19280 Redland Road</FONT></P><P><FONT size=3 face="Times New Roman">Thursday November 18\, 2010</FONT></P><P><FONT size=3 face="Times New Roman"><STRONG>RIBBON CUTTING @ 5:30 p.m.</STRONG></FONT></P><P><FONT size=3 face="Times New Roman">CONTACT: Melissa Kim @ 298-8820</FONT></P><P><FONT size=3 face="Times New Roman">CHAMBER CONTACT: Samantha Fojtik @ 384-7726</FONT></P><P><FONT size=3 face="Times New Roman">DIRECTIONS: Travel North on Hwy 281 and turn right on to Redland Road. Hotel is on the right. </FONT></P><P><FONT size=3 face="Times New Roman">Food and Refreshments will be served</FONT></P></FONT><P><FONT size=3 face="Times New Roman"><EM>Welcome to the new Holiday Inn San Antonio North-Hill Country. We are excited to be your premier hotel while visiting the Hill Country. You will enjoy all the benefits of this new Holiday Inn such as in-room safes\, microwave\, refrigerator and Kem's Restaurant and Lounge featuring favorite American dishes with in-room dining for breakfast and dinner. We also offer complimentary wired and wireless HSIA\, 24-hour business center\, indoor pool\, whirlpool and fitness center.</EM></FONT></P></FONT><FONT size=4></FONT></DIV>
LOCATION:Holiday Inn North Hill Country
UID:e.2020.834
SEQUENCE:3
DTSTAMP:20260422T172008Z
URL:https://cm-dev.metrosa.com/events/details/2010-nov-ribbon-cutting-holiday-inn-north-hill-country-11-18-2010-834
END:VEVENT

END:VCALENDAR
