BEGIN:VCALENDAR
VERSION:2.0
PRODID:-//ChamberMaster//Event Calendar 2.0//EN
METHOD:PUBLISH
X-PUBLISHED-TTL:P3D
REFRESH-INTERVAL:P3D
CALSCALE:GREGORIAN
BEGIN:VEVENT
DTSTART:20101111T210000Z
DTEND:20101111T230000Z
X-MICROSOFT-CDO-ALLDAYEVENT:FALSE
SUMMARY:2010 NOV*RIBBON CUTTING @ Knight Office Solutions
DESCRIPTION:KNIGHT OFFICE SOLUTIONS12961 Park Central\, Suite 1470\, 78216Thursday November 11\, 2010RIBBON CUTTING @ 3:00 p.m.CONTACT: Mitch Huffman @ 340-8909 CHAMBER CONTACT: Samantha Fojtik @ 384-7726DIRECTIONS: www.knightoffice.com When the home page opens click on "Contact Us" the map for their location is viewed there. Food and Refreshments will be served. Knight Office Solutions\, your document management solution. Connecting our clients with innovative technology solutions since 1990.We offer the latest products for your printing\, copying\, faxing\, scanning and document management needs.
X-ALT-DESC;FMTTYPE=text/html:<DIV style="FONT-FAMILY: Arial"><FONT size=4><P><FONT size=3><STRONG>KNIGHT OFFICE SOLUTIONS</STRONG></FONT></P><P><FONT size=3><STRONG>12961 Park Central\, Suite 1470\, 78216</STRONG></FONT></P><P><FONT size=3><STRONG>Thursday November 11\, 2010</STRONG></FONT></P><P><FONT size=3><STRONG>RIBBON CUTTING @ 3:00 p.m.</STRONG></FONT></P><P><FONT size=3>CONTACT: Mitch Huffman @ 340-8909 </FONT></P><P><FONT size=3>CHAMBER CONTACT: Samantha Fojtik @ 384-7726</FONT></P><P></FONT><FONT size=3>DIRECTIONS: </FONT><A href="www.knightoffice.com"><U><FONT color=#0000ff><FONT color=#0000ff>www.knightoffice.com</U></FONT></FONT></A> <FONT color=#000080><FONT color=#000080>When the home page opens click on "Contact Us" the map for their location is viewed there. </P></FONT></FONT><FONT size=4><P><FONT size=3>Food and Refreshments will be served.</FONT> </P></FONT><B><I><FONT face=Andalus><P>Knight Office Solutions\, your document management solution. Connecting our clients with innovative technology solutions since 1990.We offer the latest products for your printing\, copying\, faxing\, scanning and document management needs.</P></B></I></FONT></DIV>
LOCATION:Knight Office Solutions
UID:e.2020.831
SEQUENCE:3
DTSTAMP:20260422T171629Z
URL:https://cm-dev.metrosa.com/events/details/2010-nov-ribbon-cutting-knight-office-solutions-11-11-2010-831
END:VEVENT

END:VCALENDAR
