BEGIN:VCALENDAR
VERSION:2.0
PRODID:-//ChamberMaster//Event Calendar 2.0//EN
METHOD:PUBLISH
X-PUBLISHED-TTL:P3D
REFRESH-INTERVAL:P3D
CALSCALE:GREGORIAN
BEGIN:VEVENT
DTSTART:20101110T220000Z
DTEND:20101110T230000Z
X-MICROSOFT-CDO-ALLDAYEVENT:FALSE
SUMMARY:2010 NOV*Ribbon Cutting @ San Antonio Eye Specialists
DESCRIPTION:SAN ANTONIO EYE SPECIALISTS3619 Paesanos Parkway\, Suite 302\, 78231Wednesday November 10\, 2010RIBBON CUTTING: @ 4:00 pmCONTACT: Nanis Iskander @ 822-9800 CHAMBER CONTACT: Samantha Collins @ 384-7726DIRECTIONS: www.mySAeyes.com Food and refreshments served. San Antonio Eye Specialists welcomes you\, your family\, and friends. Dr. Nader Iskander is an experienced\, fellowship trained refractive surgeon who has performed thousands of laser vision correction procedures such as LASIK and refractive intraocular implants. A highly skilled surgeon\, Dr. Iskander also performs eye lid surgery. You are welcome to view the before and after photos of satisfied clients in our office photo album. Dr. Iskander is a Board-Certified Ophthalmologist and fellowship-trained refractive surgeon with extensive experience in LASIK vision correction\, advanced cataract extraction procedures and anterior segment reconstruction techniques. Dr. Iskander is considered one of the expert eye surgeons in San Antonio\, Texas and has personally performed more than 12\,000 laser vision correction\, cataract\, and eyelid procedures.
X-ALT-DESC;FMTTYPE=text/html:<P>SAN ANTONIO EYE SPECIALISTS</P><P>3619 Paesanos Parkway\, Suite 302\, 78231</P><P>Wednesday November 10\, 2010</P><P>RIBBON CUTTING: @ 4:00 pm</P><P>CONTACT: Nanis Iskander @ 822-9800 </P><P>CHAMBER CONTACT: Samantha Collins @ 384-7726</P><P>DIRECTIONS: <A href="http://www.mySAeyes.com">www.mySAeyes.com</A> </P><P>Food and refreshments served. </P><P align=right><EM>San Antonio Eye Specialists welcomes you\, your family\, and friends. Dr. Nader Iskander is an experienced\, fellowship trained refractive surgeon who has performed thousands of laser vision correction procedures such as LASIK and refractive intraocular implants. A highly skilled surgeon\, Dr. Iskander also performs eye lid surgery. You are welcome to view the before and after photos of satisfied clients in our office photo album. Dr. Iskander is a Board-Certified Ophthalmologist and fellowship-trained refractive surgeon with extensive experience in LASIK vision correction\, advanced cataract extraction procedures and anterior segment reconstruction techniques. Dr. Iskander is considered one of the expert eye surgeons in San Antonio\, Texas and has personally performed more than 12\,000 laser vision correction\, cataract\, and eyelid procedures.</EM></P>
LOCATION:San Antonio Eye Specialists
UID:e.2020.810
SEQUENCE:3
DTSTAMP:20260422T171859Z
URL:https://cm-dev.metrosa.com/events/details/2010-nov-ribbon-cutting-san-antonio-eye-specialists-11-10-2010-810
END:VEVENT

END:VCALENDAR
