BEGIN:VCALENDAR
VERSION:2.0
PRODID:-//ChamberMaster//Event Calendar 2.0//EN
METHOD:PUBLISH
X-PUBLISHED-TTL:P3D
REFRESH-INTERVAL:P3D
CALSCALE:GREGORIAN
BEGIN:VEVENT
DTSTART:20101112T143000Z
DTEND:20101112T163000Z
X-MICROSOFT-CDO-ALLDAYEVENT:FALSE
SUMMARY:2010 NOV*Ribbon Cutting @ Wal-Mart Store #5146
DESCRIPTION:WAL-MART STORE #5146 Friday November 12\, 20108630 Bandera\, 78250RIBBON CUTTING: 8:30 a.m.CONTACT: Linda Casiro-Mojica @ (210)520-6517 CHAMBER CONTACT: Samantha Collins @ (210) 384-7726 DIRECTIONS: See map on chamber website at event site www.northsachamber.comFood and Refreshments will be served.
X-ALT-DESC;FMTTYPE=text/html:<DIV style="FONT-FAMILY: Arial"><B><FONT size=4><P>WAL-MART STORE #5146 </P><P>Friday November 12\, 2010</P><P>8630 Bandera\, 78250</P><P>RIBBON CUTTING: 8:30 a.m.</P><P>CONTACT:</B> Linda Casiro-Mojica @ (210)520-6517 </P><B><P>CHAMBER CONTACT:</B> Samantha Collins @ (210) 384-7726 </P><P>DIRECTIONS: See map on chamber website at event site </FONT><A href="www.northsachamber.com"><U><FONT color=#0000ff size=4><FONT color=#0000ff size=4>www.northsachamber.com</U></FONT></FONT></A></P><FONT size=4><P>Food and Refreshments will be served. </P></FONT></DIV>
LOCATION:Wal-Mart Store #5146
UID:e.2020.832
SEQUENCE:3
DTSTAMP:20260422T171723Z
URL:https://cm-dev.metrosa.com/events/details/2010-nov-ribbon-cutting-wal-mart-store-5146-11-12-2010-832
END:VEVENT

END:VCALENDAR
