BEGIN:VCALENDAR
VERSION:2.0
PRODID:-//ChamberMaster//Event Calendar 2.0//EN
METHOD:PUBLISH
X-PUBLISHED-TTL:P3D
REFRESH-INTERVAL:P3D
CALSCALE:GREGORIAN
BEGIN:VEVENT
DTSTART:20101116T060000Z
DTEND:20101116T060000Z
X-MICROSOFT-CDO-ALLDAYEVENT:FALSE
SUMMARY:2010 NOV*RibbonCutting @ S.Texas Radiology*CANCELLED
DESCRIPTION:SOUTH TEXAS RADIOLOGY IMAGING CENTERS18707 Hardy Oak Blvd\, Suite 100San Antonio\, TX 78258Tuesday Novermber 16\, 2010CONTACT: Vera Price @ (210) 426-26377CHAMBER CONTACT: Samantha Collins @ (210) 384-7726DIRECTIONS:http://stric.com/Food and Rereshments will be served
X-ALT-DESC;FMTTYPE=text/html:<DIV>SOUTH TEXAS RADIOLOGY IMAGING CENTERS</DIV><DIV>18707 Hardy Oak Blvd\, Suite 100</DIV><DIV>San Antonio\, TX 78258</DIV><DIV>Tuesday Novermber 16\, 2010</DIV><DIV><STRONG>CONTACT: </STRONG>Vera Price @ (210) 426-26377</DIV><DIV><STRONG>CHAMBER CONTACT: </STRONG>Samantha Collins @ (210) 384-7726</DIV><DIV><STRONG>DIRECTIONS:</STRONG><U>http://stric.com/</U></DIV><DIV>Food and Rereshments will be served</DIV><DIV><STRONG></STRONG>&nbsp\;</DIV>
LOCATION:South Texas Radiology Imaging Center
UID:e.2020.828
SEQUENCE:3
DTSTAMP:20260422T171851Z
URL:https://cm-dev.metrosa.com/events/details/2010-nov-ribboncutting-s-texas-radiology-cancelled-11-16-2010-828
END:VEVENT

END:VCALENDAR
