BEGIN:VCALENDAR
VERSION:2.0
PRODID:-//ChamberMaster//Event Calendar 2.0//EN
METHOD:PUBLISH
X-PUBLISHED-TTL:P3D
REFRESH-INTERVAL:P3D
CALSCALE:GREGORIAN
BEGIN:VEVENT
DTSTART:20101118T173000Z
DTEND:20101118T190000Z
X-MICROSOFT-CDO-ALLDAYEVENT:FALSE
SUMMARY:2010 November Ambassador Lunch Meeting
DESCRIPTION:DATE & TIME: Thursday November 18\, 2010 11:00 Networking/Registration 11:30 Serving Lunch 1:00 p.m. Meeting adjourned LOCATION: BARBARESCO RESTAURANT (formerly Maggies on San Pedro) 9715 San Pedro Avenue\, 78216Directions call 231-0989 and map on chamber website MENU: Spaghetti tossed with a Carbonara sauce (bacon\, parmesan cheese\, cream\, and basil)\, Grilled Chicken\, Bread\, House Salad and Iced Tea.PRICE: $13 All-inclusive
X-ALT-DESC;FMTTYPE=text/html:<P>DATE &amp\; TIME: Thursday November 18\, 2010 </P><P>11:00 Networking/Registration </P><P>11:30 Serving Lunch </P><P>1:00 p.m. Meeting adjourned </P><P>LOCATION: BARBARESCO RESTAURANT (formerly Maggies on San Pedro) </P><P>9715 San Pedro Avenue\, 78216</P><P>Directions call 231-0989 and map on chamber website </P><P>MENU: Spaghetti tossed with a Carbonara sauce (bacon\, parmesan cheese\, cream\, and basil)\, Grilled Chicken\, Bread\, House Salad and Iced Tea.<B><FONT color=#000080 size=4><FONT color=#000080 size=4><FONT size=3></FONT></P></B></FONT></FONT><P>PRICE: $13 All-inclusive </P>
LOCATION:Barbaresco Restaurant
UID:e.2020.767
SEQUENCE:3
DTSTAMP:20260422T171725Z
URL:https://cm-dev.metrosa.com/events/details/2010-november-ambassador-lunch-meeting-11-18-2010-767
END:VEVENT

END:VCALENDAR
