BEGIN:VCALENDAR
VERSION:2.0
PRODID:-//ChamberMaster//Event Calendar 2.0//EN
METHOD:PUBLISH
X-PUBLISHED-TTL:P3D
REFRESH-INTERVAL:P3D
CALSCALE:GREGORIAN
BEGIN:VEVENT
DTSTART:20101001T143000Z
DTEND:20101001T153000Z
X-MICROSOFT-CDO-ALLDAYEVENT:FALSE
SUMMARY:2010 OCT*GRAND OPENING @ AQTS Home Health
DESCRIPTION:AQTS HOME HEALTHParkinson's Outreach Program of SA & Center for Movement Disorders19126 Stonehue\, 78258Friday October 1\, 2010RIBBON CUTTING @ 9:30 a.m.CONTACT: Carolyn Deel @ 647-0336CHAMBER CONTACT: Samantha Fojtik @ 384-7726DIRECTIONS: Center is located in the new Global Rehab Hospital on Stonehue off Stone Oak Parkway www.accessqualitycare.com The Honorable Mayor Julian Castro and Councilwoman Elisa Chan will cut the Grand Opening Ribbon. Light refreshments will be served. Please RSVP to receptionist@accessqualitycare.com or call 349-0096Access Quality Therapy Services is a comprehensive home health agency\, licensed and certified by Medicare with an outpatient rehabilitation component\, the Parkinson's Outreach Program of SA and Center for Movement Disorders. This program specializes in the therapeutic management of individuals suffering from Parkinson's disease and movement disorders and provides physical\, occupational and speech therapy. The therapy is designed to assist those with functional disabilities and provides services customized to each individual's needs. At the Parkinson's Outreach Program of SA and Center for Movement Disorders\, our goal is to insure that each patient achieves a higher level of functioning thereby improves their quality of life. To learn more about the services offered through Access Quality Therapy Services\, please call (210) 349-0096 or visit our website at www.accessqualitycare.com
X-ALT-DESC;FMTTYPE=text/html:<P>AQTS HOME HEALTH</P><P><STRONG><EM>Parkinson's Outreach Program of SA &amp\; Center for Movement Disorders</EM></STRONG></P><P>19126 Stonehue\, 78258</P><P>Friday October 1\, 2010</P><P>RIBBON CUTTING @ 9:30 a.m.</P><P>CONTACT: Carolyn Deel @ 647-0336</P><P>CHAMBER CONTACT: Samantha Fojtik @ 384-7726</P><P>DIRECTIONS: Center is located in the new Global Rehab Hospital on Stonehue off Stone Oak Parkway <A href="http://www.accessqualitycare.com">www.accessqualitycare.com</A> </P><P>The Honorable Mayor Julian Castro and Councilwoman Elisa Chan will cut the Grand Opening Ribbon. </P><P>Light refreshments will be served. </P><P><STRONG><EM><U>Please RSVP to receptionist@accessqualitycare.com or call 349-0096</U></EM></STRONG></P><P><EM>Access Quality Therapy Services is a comprehensive home health agency\, licensed and certified by Medicare with an outpatient rehabilitation component\, the Parkinson's Outreach Program of SA and Center for Movement Disorders. This program specializes in the therapeutic management of individuals suffering from Parkinson's disease and movement disorders and provides physical\, occupational and speech therapy. The therapy is designed to assist those with functional disabilities and provides services customized to each individual's needs. At the Parkinson's Outreach Program of SA and Center for Movement Disorders\, our goal is to insure that each patient achieves a higher level of functioning thereby improves their quality of life. To learn more about the services offered through Access Quality Therapy Services\, please call (210) 349-0096 or visit our website at www.accessqualitycare.com</EM></P>
LOCATION:AQTS -Parkinson's Outreach Program of SA Center
UID:e.2020.799
SEQUENCE:3
DTSTAMP:20260422T183605Z
URL:https://cm-dev.metrosa.com/events/details/2010-oct-grand-opening-aqts-home-health-10-01-2010-799
END:VEVENT

END:VCALENDAR
