BEGIN:VCALENDAR
VERSION:2.0
PRODID:-//ChamberMaster//Event Calendar 2.0//EN
METHOD:PUBLISH
X-PUBLISHED-TTL:P3D
REFRESH-INTERVAL:P3D
CALSCALE:GREGORIAN
BEGIN:VEVENT
DTSTART:20101014T210000Z
DTEND:20101014T223000Z
X-MICROSOFT-CDO-ALLDAYEVENT:FALSE
SUMMARY:2010 OCT*Ribbon Cutting @ Arden Courts of San Antonio
DESCRIPTION:ARDEN COURTS OF SAN ANTONIO15290 Huebner Road\, 78231Thursday October 14\, 2010RIBBON CUTTING @ 4:00 p.m.CONTACT: Alberto Delcampo @ 274-5143 or 408-9100CHAMBER CONTACT: Samantha Fojtik @ 384-7726DIRECTIONS: 281 North exit for Bitters. Turn left on to Bitters at the traffic light travel forward to Huebner. At the Huebner turn left travel forward until you come to Emerald Hill Dr./Huebner make a left U-Turn and Arden Court will be on the right. Food and refreshments will be served.
X-ALT-DESC;FMTTYPE=text/html:<P>ARDEN COURTS OF SAN ANTONIO</P><P>15290 Huebner Road\, 78231</P><P>Thursday October 14\, 2010</P><P>RIBBON CUTTING @ 4:00 p.m.</P><P>CONTACT: Alberto Delcampo @ 274-5143 or 408-9100</P><P>CHAMBER CONTACT: Samantha Fojtik @ 384-7726</P><P>DIRECTIONS: 281 North exit for Bitters. Turn left on to Bitters at the traffic light travel forward to Huebner. At the Huebner turn left travel forward until you come to Emerald Hill Dr./Huebner make a left U-Turn and Arden Court will be on the right. Food and refreshments will be served. </P>
LOCATION:Arden Courts
UID:e.2020.805
SEQUENCE:3
DTSTAMP:20260422T182828Z
URL:https://cm-dev.metrosa.com/events/details/2010-oct-ribbon-cutting-arden-courts-of-san-antonio-10-14-2010-805
END:VEVENT

END:VCALENDAR
