BEGIN:VCALENDAR
VERSION:2.0
PRODID:-//ChamberMaster//Event Calendar 2.0//EN
METHOD:PUBLISH
X-PUBLISHED-TTL:P3D
REFRESH-INTERVAL:P3D
CALSCALE:GREGORIAN
BEGIN:VEVENT
DTSTART:20101020T220000Z
DTEND:20101020T233000Z
X-MICROSOFT-CDO-ALLDAYEVENT:FALSE
SUMMARY:2010 OCT*Ribbon Cutting @ Gastroenterology Consultants of San Antonio
DESCRIPTION:GASTROENTEROLOGY CONSULTANTS OF SAN ANTONIO 11485 Toepperwein Road\, Suite 2\, Live Oak\, TX 78233Wednesday - October 20\, 2010RIBBON CUTTING @ 5:00 p.m.CONTACT: Holly Coyle @ 445-2696CHAMBER CONTACT: Samantha Fojtik @ 384-8826DIRECTIONS: www.gastroconsa.com at the homepage click on the Northeast location for directions. Also click on the photo of Dr. Arnold at the sidebar and read the bios on the 2 new physicians at this location. Food and Refreshments will be served.
X-ALT-DESC;FMTTYPE=text/html:<P>GASTROENTEROLOGY CONSULTANTS OF SAN ANTONIO</P><P>&nbsp\;11485 Toepperwein Road\, Suite 2\, Live Oak\, TX 78233</P><P>Wednesday - October 20\, 2010</P><P>RIBBON CUTTING @ 5:00 p.m.</P><P>CONTACT: Holly Coyle @ 445-2696</P><P>CHAMBER CONTACT: Samantha Fojtik @ 384-8826</P><P>DIRECTIONS: <U>www.gastroconsa.com</U> at the homepage click on the Northeast location for directions. Also click on the photo of Dr. Arnold at the sidebar and read the bios on the 2 new physicians at this location. </P><P>Food and Refreshments will be served.</P>
LOCATION:Gastroenterology Consultants of San Antonio
UID:e.2020.809
SEQUENCE:3
DTSTAMP:20260422T182823Z
URL:https://cm-dev.metrosa.com/events/details/2010-oct-ribbon-cutting-gastroenterology-consultants-of-san-antonio-10-20-2010-809
END:VEVENT

END:VCALENDAR
