BEGIN:VCALENDAR
VERSION:2.0
PRODID:-//ChamberMaster//Event Calendar 2.0//EN
METHOD:PUBLISH
X-PUBLISHED-TTL:P3D
REFRESH-INTERVAL:P3D
CALSCALE:GREGORIAN
BEGIN:VEVENT
DTSTART:20101028T140000Z
DTEND:20101028T230000Z
X-MICROSOFT-CDO-ALLDAYEVENT:FALSE
SUMMARY:2010 OCT * RIBBON CUTTING @ Zeitgeist Wellness Group
DESCRIPTION:ZEITGEIST WELLNESS GROUPThursday October 28\, 2010Port San Antonio\, 102 Mabry\, Ste. 100\, 78226RIBBON CUTTING @ 1:00 p.m.CONTACT:Artemese Cunningham  @ 271-7411 - New Office @ 922-6188CHAMBER CONTACT:Samantha Fojtik @ 384-7726DIRECTIONS:Map is in the attachment. http://www.zeitgeistwellnessgroup.comDoor Prizes\, On-site Massages\, H'oeuvres and Beverages will be served.
X-ALT-DESC;FMTTYPE=text/html:<DIV style="FONT-FAMILY: Arial"><P class=MsoNormal><FONT size=3><FONT face="Times New Roman"><STRONG><SPAN style="FONT-SIZE: 13.5pt">ZEITGEIST WELLNESS GROUP</SPAN></STRONG><?xml:namespace prefix = o ns = "urn:schemas-microsoft-com:office:office" /><o:p></o:p></FONT></FONT></P><P class=MsoNormal><FONT size=3><FONT face="Times New Roman"><STRONG><SPAN style="FONT-SIZE: 13.5pt">Thursday October 28\, 2010</SPAN></STRONG><o:p></o:p></FONT></FONT></P><P class=MsoNormal><FONT size=3><FONT face="Times New Roman"><STRONG><SPAN style="FONT-SIZE: 13.5pt">Port San Antonio\, 102 Mabry\, Ste. 100\, 78226</SPAN></STRONG><o:p></o:p></FONT></FONT></P><P class=MsoNormal><FONT size=3><FONT face="Times New Roman"><STRONG><U><SPAN style="COLOR: maroon\; FONT-SIZE: 13.5pt">RIBBON CUTTING @ 1:00 p.m.</SPAN></U></STRONG><o:p></o:p></FONT></FONT></P><P class=MsoNormal><FONT size=3><SPAN style="FONT-FAMILY: 'Times New Roman'\,'serif'\; FONT-SIZE: 13.5pt">CONTACT:<SPAN style="COLOR: black">Artemese Cunningham&nbsp\; @ </SPAN>271-7411 - New Office @ 922-6188</SPAN><o:p></o:p></FONT></P><P class=MsoNormal><FONT size=3><SPAN style="FONT-FAMILY: 'Times New Roman'\,'serif'\; FONT-SIZE: 13.5pt">CHAMBER CONTACT:Samantha Fojtik @ 384-7726</SPAN><o:p></o:p></FONT></P><P class=MsoNormal><SPAN style="FONT-FAMILY: 'Times New Roman'\,'serif'\; FONT-SIZE: 13.5pt"><FONT size=3>DIRECTIONS:Map is in the attachment. </FONT><A title=http://www.zeitgeistwellnessgroup.com/ href="http://www.zeitgeistwellnessgroup.com/"><FONT size=3>http://www.zeitgeistwellnessgroup.com</FONT></A></SPAN><o:p></o:p></P><P class=MsoNormal><FONT size=3><SPAN style="FONT-FAMILY: 'Times New Roman'\,'serif'\; FONT-SIZE: 13.5pt"><FONT size=3>Door Prizes\, On-site Massages\, H'oeuvres and Beverages will be served.</FONT> </SPAN><o:p></o:p></FONT></P><P class=MsoNormal>&nbsp\;</P></DIV>
LOCATION:Zeitgeist Wellness Group
UID:e.2020.813
SEQUENCE:3
DTSTAMP:20260422T182440Z
URL:https://cm-dev.metrosa.com/events/details/2010-oct-ribbon-cutting-zeitgeist-wellness-group-10-28-2010-813
END:VEVENT

END:VCALENDAR
