BEGIN:VCALENDAR
VERSION:2.0
PRODID:-//ChamberMaster//Event Calendar 2.0//EN
METHOD:PUBLISH
X-PUBLISHED-TTL:P3D
REFRESH-INTERVAL:P3D
CALSCALE:GREGORIAN
BEGIN:VEVENT
DTSTART:20100917T210000Z
DTEND:20100917T223000Z
X-MICROSOFT-CDO-ALLDAYEVENT:FALSE
SUMMARY:2010 Sept Member Reception
DESCRIPTION:
X-ALT-DESC;FMTTYPE=text/html:
LOCATION:North Chamber
UID:e.2020.706
SEQUENCE:3
DTSTAMP:20260422T193105Z
URL:https://cm-dev.metrosa.com/events/details/2010-sept-member-reception-09-17-2010-706
END:VEVENT

END:VCALENDAR
