BEGIN:VCALENDAR
VERSION:2.0
PRODID:-//ChamberMaster//Event Calendar 2.0//EN
METHOD:PUBLISH
X-PUBLISHED-TTL:P3D
REFRESH-INTERVAL:P3D
CALSCALE:GREGORIAN
BEGIN:VEVENT
DTSTART:20100916T163000Z
DTEND:20100916T180000Z
X-MICROSOFT-CDO-ALLDAYEVENT:FALSE
SUMMARY:2010 September Ambassador Lunch Meeting
DESCRIPTION:LOCATION: BARBARESCO RESTAURANT (formerly Maggies on San Pedro)Directions call 231-0989 and map on chamber website MENU: Baked veal lasagna served with sauteed carrots\, squash\, zucchini\, broccoli and house salad. Bread Baskets on tables and iced tea.
X-ALT-DESC;FMTTYPE=text/html:<P>LOCATION: BARBARESCO RESTAURANT (formerly Maggies on San Pedro)</P><P>Directions call 231-0989 and map on chamber website </P><P>MENU: Baked veal lasagna served with sauteed carrots\, squash\, zucchini\, broccoli and house salad. Bread Baskets on tables and iced tea. </P>
LOCATION:Barbaresco
UID:e.2020.765
SEQUENCE:3
DTSTAMP:20260422T193246Z
URL:https://cm-dev.metrosa.com/events/details/2010-september-ambassador-lunch-meeting-09-16-2010-765
END:VEVENT

END:VCALENDAR
