BEGIN:VCALENDAR
VERSION:2.0
PRODID:-//ChamberMaster//Event Calendar 2.0//EN
METHOD:PUBLISH
X-PUBLISHED-TTL:P3D
REFRESH-INTERVAL:P3D
CALSCALE:GREGORIAN
BEGIN:VEVENT
DTSTART:20100923T121500Z
DTEND:20100923T140000Z
X-MICROSOFT-CDO-ALLDAYEVENT:FALSE
SUMMARY:2010 September CIO Breakfast
DESCRIPTION:Collaborating SharePoint” by Doug Skiba\, Frost “This session is targeted to address some of the opportunities\, challenges and bests practices all organizations are facing in enabling the processes of how people work together through collaboration tools such as SharePoint.”
X-ALT-DESC;FMTTYPE=text/html:<P class=MsoNormal style="MARGIN-BOTTOM: 3.75pt\; MARGIN-LEFT: 0in\; MARGIN-RIGHT: 0in\; mso-margin-top-alt: 3.75pt"><FONT face="Times New Roman" color=black size=1><SPAN style="FONT-SIZE: 9pt\; COLOR: black">Collaborating SharePoint” by Doug Skiba\, Frost<?xml:namespace prefix = o ns = "urn:schemas-microsoft-com:office:office" /><o:p></o:p></SPAN></FONT></P><P class=MsoNormal style="MARGIN-BOTTOM: 3.75pt\; MARGIN-LEFT: 0in\; MARGIN-RIGHT: 0in\; mso-margin-top-alt: 3.75pt"><FONT face="Times New Roman" color=black size=1><SPAN style="FONT-SIZE: 9pt\; COLOR: black">&nbsp\;“This session is targeted to address some of the opportunities\, challenges and bests practices all organizations are facing in enabling the processes of how people work together through collaboration tools such as SharePoint.”<o:p></o:p></SPAN></FONT></P>
LOCATION:Petroleum Club of San Antonio
UID:e.2020.790
SEQUENCE:3
DTSTAMP:20260422T193058Z
URL:https://cm-dev.metrosa.com/events/details/2010-september-cio-breakfast-09-23-2010-790
END:VEVENT

END:VCALENDAR
